Workbook

Sheet (はじめにお読み下さい)申請書の使い方
A2: 本申請書の使い方、申請の手順
A4: 手順 | B4: 都道府県の作業 | C4: 事業者（法人本部）の作業 | D4: 各事業所の作業
A5: 1 | B5: 本Excelを管内の介護サービス事業者に配布
A6: =A5+1 -> 2 | C6: 本Excelを各事業所に配布し、以下の様式への記入を依頼 ・様式２（個票）
A7: =A6+1 -> 3 | D7: 以下の作業を行った上で、事業者（法人本部）へ返送 【様式２（個票）】 ・水色セル：必要情報を入力 ・緑色セル：プルダウンから選択
A8: =A7+1 -> 4 | C8: 各事業所の個票のシートを１つのExcelファイルに集約し、個票シート名を「個票●」（●は１からの通し番号）に修正
A9: =A8+1 -> 5 | C9: 様式２（個票）の内容が、様式１（申請額一覧）に正しく反映されていることを確認 ※15事業所以上ある場合には6行目～15行目を行ごとコピーし、16行目に右クリック→「コピーしたセルの挿入」で挿入すること。
A10: =A9+1 -> 6 | C10: 申請書に、申請者の法人名、代表者名、日付、提出先（○○県知事）を入力
A11: =A10+1 -> 7 | C11: 完成したExcelファイルを都道府県（都道府県が受付業務を民間事業者に委託する場合は、各都道府県の委託事業者）に送付
A12: =A11+1 -> 8 | B12: 事業者からExcelファイルを受領し、内容を審査 ※都道府県が受付業務を民間事業者に委託する場合は、委託事業者を通じて都道府県に送付
A13: =A12+1 -> 9 | B13: 都道府県等内で必要な作業を行い、事業者に補助金を交付

Sheet リスト
B1: 事業所・施設等の種別
A2: 1 | B2: 訪問介護事業所 集合住宅併設型（同一建物減算の算定がある事業所） | C2: 200 | D2: /事業所
A3: 2 | B3: 訪問介護事業所 上記以外であって、1月あたり延べ訪問回数200回以下 | C3: 300 | D3: /事業所
A4: 3 | B4: 訪問介護事業所 上記以外であって、1月あたり延べ訪問回数201回以上2,000回以下 | C4: 400 | D4: /事業所
A5: 4 | B5: 訪問介護事業所 上記以外であって、1月あたり延べ訪問回数2,001回以上 | C5: 500 | D5: /事業所
A6: 5 | B6: 訪問入浴介護事業所 | C6: 200 | D6: /事業所
A7: 6 | B7: 訪問看護事業所 | C7: 200 | D7: /事業所
A8: 7 | B8: 訪問リハビリテーション事業所 | C8: 200 | D8: /事業所
A9: 8 | B9: 通所介護事業所 1月あたり延べ利用者数300人以下 | C9: 200 | D9: /事業所
A10: 9 | B10: 通所介護事業所 1月あたり延べ利用者数301人以上600人以下 | C10: 300 | D10: /定員
A11: 10 | B11: 通所介護事業所 1月あたり延べ利用者数601人以上 | C11: 400 | D11: /定員
A12: 11 | B12: 通所リハビリテーション事業所 | C12: 200 | D12: /事業所
A13: 12 | B13: 特定施設入居者生活介護（養護老人ホーム、軽費老人ホームを除く） | C13: 200 | D13: /事業所
... A23: 22 | B23: 居宅介護支援事業所 | C23: 200 | D23: /事業所
A24: 23 | B24: 介護老人福祉施設 | C24: 6 | D24: /定員 | E24: 18 | F24: /定員
A25: 24 | B25: 介護老人保健施設 | C25: 6 | D25: /定員 | E25: 18 | F25: /定員
A26: 25 | B26: 介護医療院 | C26: 6 | D26: /定員 | E26: 18 | F26: /定員
A27: 26 | B27: 地域密着型介護老人福祉施設 | C27: 6 | D27: /定員 | E27: 18 | F27: /定員
A28: 27 | B28: 短期入所生活介護事業所 | C28: 6 | D28: /定員 | E28: 18 | F28: /定員
A29: 28 | B29: 養護老人ホーム | C29: 6 | D29: /定員 | E29: 18 | F29: /定員
A30: 29 | B30: 軽費老人ホーム | C30: 6 | D30: /定員 | E30: 18 | F30: /定員
B32: 北海道
B33: 青森県
B34: 岩手県
B35: 宮城県
B36: 秋田県
B37: 山形県
B38: 福島県
B39: 茨城県
B40: 栃木県
B41: 群馬県
B42: 埼玉県
B43: 千葉県
... B78: 沖縄県

Sheet (はじめにお読み下さい)報告書の使い方
A2: 本申請書の使い方、申請の手順
A4: 手順 | B4: 都道府県の作業 | C4: 事業者（法人本部）の作業 | D4: 各事業所の作業
A5: 1 | B5: 本Excelを管内の介護サービス事業者・事業所に配布
A6: =A5+1 -> 2 | C6: 本Excelを各事業所に配布し、以下の様式への記入を依頼 ・付表２（個票） | D6: 本Excelで以下の作業を行った上で、事業者（法人本部）へ返送 【付表２（個票）】 ・水色セル：必要情報を入力 ・緑色セル：プルダウンから選択
A7: =A6+1 -> 3
A8: =A7+1 -> 4 | C8: 各事業所の個票のシートを１つのExcelファイルに集約し、個票シート名を「個票●」（●は１からの通し番号）に修正
A9: =A8+1 -> 5 | C9: 付表２（個票）の内容が、付表１（清算額一覧）に正しく反映されていることを確認 ※15事業所以上ある場合には6行目～15行目を行ごとコピーし、16行目に右クリック→「コピーしたセルの挿入」で挿入すること。
A10: =A9+1 -> 6 | C10: 報告書に、報告者の法人名、代表者名、日付を入力
A11: =A10+1 -> 7 | C11: 完成したExcelファイルを都道府県（都道府県が受付業務を民間事業者に委託する場合は、各都道府県の委託事業者）に送付
A12: =A11+1 -> 8 | B12: 事業者からExcelファイルを受領し、内容を確認 ※都道府県が受付業務を民間事業者に委託する場合は、委託事業者を通じて都道府県に送付
A13: =A12+1 -> 9 | B13: 都道府県等内で内容を確認

Sheet よくある質問
A1: No. | B1: 質問 | C1: 回答
A2: 1 | B2: 交付申請書提出時から事業所名称や住所や担当者など変更があった場合どうすればよいか。 | C2: 変更後の内容で提出してください。なお、法人名・事業所名・代表者名に変更があった場合は事務局へご一報ください。
A3: 2 | B3: 交付決定額の欄は手入力だが、どの金額を入力すればいいか。 | C3: 令和8年8月24日付け高齢第774号の交付決定通知書の別表に記載されている事業所ごとの金額をご入力ください。
A4: 3 | B4: 申請時から定員数が増えた。変更は可能か。 | C4: 交付決定額が上限となるため、補助金額の変更はできません。
A5: 4 | B5: 施設ごとの請求で按分する場合の実績報告はどのようにしたらよいか。 | C5: 按分後の金額を記載してください。なお、按分する際は根拠を明確にしたうえで、領収書等に記載して保管してください。
A6: 5 | B6: 交付申請書で計上した内容から変更があった場合は補助対象となるか。 | C6: 対象期間内に購入しており、かつ補助対象経費に該当する場合は計上しても差し支えありません。 ただし、実績報告書の審査において事務局より内容を確認させていただく場合があります。
A7: 6 | B7: 交付申請書で計上していたもので単価50万円を超えてしまった場合どうすればよいか。 | C7: 補助対象外となります。
A8: 7 | B8: 実績報告で交付決定額を下回った場合、対象期間内であれば、交付申請書の用途・品目・数量欄で記載した内容を変更・追加して計上してもよいか。 | C8: 対象期間内に購入しており、かつ補助対象経費に該当する場合は計上しても差し支えありません。 ただし、実績報告書の審査において事務局より内容を確認させていただく場合があります。
A9: 8 | B9: 施設の定員数が減って食材費の見込み額も減った。同じ対象経費の品目なら増やしてもよいのか、同じ事業区分の別の対象経費を加えてもよいのか。 | C9: 交付決定額の範囲内かつ補助対象経費に該当する場合は、品目の変更や経費の追加は可能です。
A10: 9 | B10: 実績報告書の報告書シートで返還額とあるがどういう計算をされているのか。 | C10: 交付決定額から実績額（千円未満切り捨て）を差引した額が返還額となります。 交付決定額＞実績額だった場合は、差額である返還額を県へ返還する必要があります。 なお、補助金の交付額が1,000円未満切り捨てとなることから、返還額は1,000円未満切り上げとなりますのでご注意ください。
A11: 10 | B11: 実績額がどの程度申請額を下回ると返還対象か。1円の差異があっても返還対象なのか。 | C11: 補助金の交付額が1,000円未満切り捨てとなることから、1,000円未満の差異があった場合は返還額は1,000円未満切り上げとなりますのでご注意ください。 【例】交付決定額：200千円－実績額：199千円（実支出額：199,500円）＝返還額：1千円 ※返還額は500円とはなりません。

Sheet (記入例)報告書
A5: （別記様式２）見本
AC7: 令和 | AD7: 8 | AF7: 年 | AG7: 10 | AI7: 月 | AJ7: 1 | AL7: 日
A9: 新潟県知事 | I9: 殿
W11: 株式会社○○
W12: 代表取締役 新潟太郎
A14: 新潟県介護事業所等及び介護施設等に対するサービス継続支援事業補助金実績報告書
A17: 標記の補助金に係る事業実績について、次のとおり関係書類を添えて報告する。
B19: 交付決定額 ： | K19: 2400 | S19: 千円
B20: 実 績 額 ： | K20: 2400 | S20: 千円
B21: 返 還 額 ： | K21: 0 | S21: 千円
B24: （実績額内訳）
C25: 1．介護事業所等に対するサービス継続支援事業 | X25: 600 | AC25: 千円
C26: 2．介護施設等に対するサービス継続支援事業 | X26: 1800 | AC26: 千円
B30: （添付書類）
B31: １ 事業所・施設別清算額一覧（付表１）
B32: ２ サービス継続支援事業に関する事業実績報告書（事業所単位）（付表２）
T38: 【報告内容に関する問い合わせ先】
U40: 報告法人住所 | AC40: 新潟市中央区新光町4番地1
U41: 部署名 | AC41: 管理部
U42: 担当者氏名 | AC42: 長岡花子
U43: 連絡先 | Y43: 電話番号 | AC43: 025-285-5511
Y44: e-mail | AC44: ngt123@abc.niigata.com

Sheet 報告書
A1: （別記様式２）
AC3: 令和 | AF3: 年 | AI3: 月 | AL3: 日
A5: 新潟県知事 | I5: 殿
W7: （法人名）
W8: （役職・代表者名）
A10: 新潟県介護事業所等及び介護施設等に対するサービス継続支援事業補助金実績報告書
A13: 標記の補助金に係る事業実績について、次のとおり関係書類を添えて報告する。
B15: 交付決定額 ： | K15: =SUM(清算額一覧!J5:J54) -> 0 | S15: 千円
B16: 実 績 額 ： | K16: =SUM(X21:AB22) -> 0 | S16: 千円
B17: 返 還 額 ： | K17: =SUM(清算額一覧!P5:P54) -> 0 | S17: 千円
B20: （実績額内訳）
C21: 1．介護事業所等に対するサービス継続支援事業 | X21: =SUM(清算額一覧!K5:K54) -> 0 | AC21: 千円
C22: 2．介護施設等に対するサービス継続支援事業 | X22: =SUM(清算額一覧!L5:L54) -> 0 | AC22: 千円
B26: （添付書類）
B27: １ 事業所・施設別清算額一覧（付表１）
B28: ２ サービス継続支援事業に関する事業実績報告書（事業所単位）（付表２）
T34: 【報告内容に関する問い合わせ先】
U36: 報告法人住所
U37: 部署名
U38: 担当者氏名
U39: 連絡先 | Y39: 電話番号
Y40: e-mail

Sheet 清算額一覧
A1: （付表１）事業所・施設別清算額一覧
A3: No. | B3: 事業所・施設名 | C3: 介護保険 事業所番号 | D3: サービス種別 | E3: 電話番号 | F3: 住所 | G3: 代表となる 事業所・施設名 | H3: 交付決定額（千円） | K3: 実績額（千円） | N3: 差引額（千円） | Q3: 審査 結果
H4: 介護事業所等に対するサービス継続支援事業 | I4: 介護施設等に対するサービス継続支援事業 | J4: 合計 | K4: 介護事業所等に対するサービス継続支援事業 | L4: 介護施設等に対するサービス継続支援事業 | M4: 合計 | N4: 介護事業所等に対するサービス継続支援事業 | O4: 介護施設等に対するサービス継続支援事業 | P4: 合計
A5: =ROW()-4 -> 1 | B5: =IFERROR(INDIRECT("個票"&$A5&"！$t$7"),"") -> 0 | C5: =IFERROR(INDIRECT("個票"&$A5&"！$h$7"),"") -> 0 | D5: =IFERROR(INDIRECT("個票"&$A5&"！$l$10"),"") -> 0 | E5: =IFERROR(INDIRECT("個票"&$A5&"！$w$9"),"") -> 0 | F5: =IFERROR(INDIRECT("個票"&$A5&"！$ｄ$9")&INDIRECT("個票"&$A5&"！$ｈ$9"),"") -> 新潟県 | G5: =IF(J5>0,報告書!$W$7,"") | H5: =IFERROR(INDIRECT("個票"&$A5&"！$Y$27"),"") -> 0 | I5: =IFERROR(INDIRECT("個票"&$A5&"！$Y$49"),"") -> 0 | J5: =SUM(H5,I5) -> 0 | K5: =IFERROR(INDIRECT("個票"&$A5&"！$ad$27"),"") -> 0 | L5: =IFERROR(INDIRECT("個票"&$A5&"！$ad$49"),"") -> 0 | M5: =SUM(K5,L5) -> 0 | N5: =IFERROR(INDIRECT("個票"&$A5&"！$ai$27"),"") -> 0 | O5: =IFERROR(INDIRECT("個票"&$A5&"！$ai$49"),"") -> 0 | P5: =SUM(N5,O5) -> 0
A6: =ROW()-4 -> 2 | B6: =IFERROR(INDIRECT("個票"&$A6&"！$t$7"),"") -> 0 | C6: =IFERROR(INDIRECT("個票"&$A6&"！$h$7"),"") -> 0 | D6: =IFERROR(INDIRECT("個票"&$A6&"！$l$10"),"") -> 0 | E6: =IFERROR(INDIRECT("個票"&$A6&"！$w$9"),"") -> 0 | F6: =IFERROR(INDIRECT("個票"&$A6&"！$ｄ$9")&INDIRECT("個票"&$A6&"！$ｈ$9"),"") -> 新潟県 | G6: =IF(J6>0,報告書!$W$7,"") | H6: =IFERROR(INDIRECT("個票"&$A6&"！$Y$27"),"") -> 0 | I6: =IFERROR(INDIRECT("個票"&$A6&"！$Y$49"),"") -> 0 | J6: =SUM(H6,I6) -> 0 | K6: =IFERROR(INDIRECT("個票"&$A6&"！$ad$27"),"") -> 0 | L6: =IFERROR(INDIRECT("個票"&$A6&"！$ad$49"),"") -> 0 | M6: =SUM(K6,L6) -> 0 | N6: =IFERROR(INDIRECT("個票"&$A6&"！$ai$27"),"") -> 0 | O6: =IFERROR(INDIRECT("個票"&$A6&"！$ai$49"),"") -> 0 | P6: =SUM(N6,O6) -> 0
A7: =ROW()-4 -> 3 | B7: =IFERROR(INDIRECT("個票"&$A7&"！$t$7"),"") -> 0 | C7: =IFERROR(INDIRECT("個票"&$A7&"！$h$7"),"") -> 0 | D7: =IFERROR(INDIRECT("個票"&$A7&"！$l$10"),"") -> 0 | E7: =IFERROR(INDIRECT("個票"&$A7&"！$w$9"),"") -> 0 | F7: =IFERROR(INDIRECT("個票"&$A7&"！$ｄ$9")&INDIRECT("個票"&$A7&"！$ｈ$9"),"") -> 新潟県 | G7: =IF(J7>0,報告書!$W$7,"") | H7: =IFERROR(INDIRECT("個票"&$A7&"！$Y$27"),"") -> 0 | I7: =IFERROR(INDIRECT("個票"&$A7&"！$Y$49"),"") -> 0 | J7: =SUM(H7,I7) -> 0 | K7: =IFERROR(INDIRECT("個票"&$A7&"！$ad$27"),"") -> 0 | L7: =IFERROR(INDIRECT("個票"&$A7&"！$ad$49"),"") -> 0 | M7: =SUM(K7,L7) -> 0 | N7: =IFERROR(INDIRECT("個票"&$A7&"！$ai$27"),"") -> 0 | O7: =IFERROR(INDIRECT("個票"&$A7&"！$ai$49"),"") -> 0 | P7: =SUM(N7,O7) -> 0
A8: =ROW()-4 -> 4 | B8: =IFERROR(INDIRECT("個票"&$A8&"！$t$7"),"") -> 0 | C8: =IFERROR(INDIRECT("個票"&$A8&"！$h$7"),"") -> 0 | D8: =IFERROR(INDIRECT("個票"&$A8&"！$l$10"),"") -> 0 | E8: =IFERROR(INDIRECT("個票"&$A8&"！$w$9"),"") -> 0 | F8: =IFERROR(INDIRECT("個票"&$A8&"！$ｄ$9")&INDIRECT("個票"&$A8&"！$ｈ$9"),"") -> 新潟県 | G8: =IF(J8>0,報告書!$W$7,"") | H8: =IFERROR(INDIRECT("個票"&$A8&"！$Y$27"),"") -> 0 | I8: =IFERROR(INDIRECT("個票"&$A8&"！$Y$49"),"") -> 0 | J8: =SUM(H8,I8) -> 0 | K8: =IFERROR(INDIRECT("個票"&$A8&"！$ad$27"),"") -> 0 | L8: =IFERROR(INDIRECT("個票"&$A8&"！$ad$49"),"") -> 0 | M8: =SUM(K8,L8) -> 0 | N8: =IFERROR(INDIRECT("個票"&$A8&"！$ai$27"),"") -> 0 | O8: =IFERROR(INDIRECT("個票"&$A8&"！$ai$49"),"") -> 0 | P8: =SUM(N8,O8) -> 0
A9: =ROW()-4 -> 5 | B9: =IFERROR(INDIRECT("個票"&$A9&"！$t$7"),"") -> 0 | C9: =IFERROR(INDIRECT("個票"&$A9&"！$h$7"),"") -> 0 | D9: =IFERROR(INDIRECT("個票"&$A9&"！$l$10"),"") -> 0 | E9: =IFERROR(INDIRECT("個票"&$A9&"！$w$9"),"") -> 0 | F9: =IFERROR(INDIRECT("個票"&$A9&"！$ｄ$9")&INDIRECT("個票"&$A9&"！$ｈ$9"),"") -> 新潟県 | G9: =IF(J9>0,報告書!$W$7,"") | H9: =IFERROR(INDIRECT("個票"&$A9&"！$Y$27"),"") -> 0 | I9: =IFERROR(INDIRECT("個票"&$A9&"！$Y$49"),"") -> 0 | J9: =SUM(H9,I9) -> 0 | K9: =IFERROR(INDIRECT("個票"&$A9&"！$ad$27"),"") -> 0 | L9: =IFERROR(INDIRECT("個票"&$A9&"！$ad$49"),"") -> 0 | M9: =SUM(K9,L9) -> 0 | N9: =IFERROR(INDIRECT("個票"&$A9&"！$ai$27"),"") -> 0 | O9: =IFERROR(INDIRECT("個票"&$A9&"！$ai$49"),"") -> 0 | P9: =SUM(N9,O9) -> 0
A10: =ROW()-4 -> 6 | B10: =IFERROR(INDIRECT("個票"&$A10&"！$t$7"),"") -> 0 | C10: =IFERROR(INDIRECT("個票"&$A10&"！$h$7"),"") -> 0 | D10: =IFERROR(INDIRECT("個票"&$A10&"！$l$10"),"") -> 0 | E10: =IFERROR(INDIRECT("個票"&$A10&"！$w$9"),"") -> 0 | F10: =IFERROR(INDIRECT("個票"&$A10&"！$ｄ$9")&INDIRECT("個票"&$A10&"！$ｈ$9"),"") -> 新潟県 | G10: =IF(J10>0,報告書!$W$7,"") | H10: =IFERROR(INDIRECT("個票"&$A10&"！$Y$27"),"") -> 0 | I10: =IFERROR(INDIRECT("個票"&$A10&"！$Y$49"),"") -> 0 | J10: =SUM(H10,I10) -> 0 | K10: =IFERROR(INDIRECT("個票"&$A10&"！$ad$27"),"") -> 0 | L10: =IFERROR(INDIRECT("個票"&$A10&"！$ad$49"),"") -> 0 | M10: =SUM(K10,L10) -> 0 | N10: =IFERROR(INDIRECT("個票"&$A10&"！$ai$27"),"") -> 0 | O10: =IFERROR(INDIRECT("個票"&$A10&"！$ai$49"),"") -> 0 | P10: =SUM(N10,O10) -> 0
A11: =ROW()-4 -> 7 | B11: =IFERROR(INDIRECT("個票"&$A11&"！$t$7"),"") -> 0 | C11: =IFERROR(INDIRECT("個票"&$A11&"！$h$7"),"") -> 0 | D11: =IFERROR(INDIRECT("個票"&$A11&"！$l$10"),"") -> 0 | E11: =IFERROR(INDIRECT("個票"&$A11&"！$w$9"),"") -> 0 | F11: =IFERROR(INDIRECT("個票"&$A11&"！$ｄ$9")&INDIRECT("個票"&$A11&"！$ｈ$9"),"") -> 新潟県 | G11: =IF(J11>0,報告書!$W$7,"") | H11: =IFERROR(INDIRECT("個票"&$A11&"！$Y$27"),"") -> 0 | I11: =IFERROR(INDIRECT("個票"&$A11&"！$Y$49"),"") -> 0 | J11: =SUM(H11,I11) -> 0 | K11: =IFERROR(INDIRECT("個票"&$A11&"！$ad$27"),"") -> 0 | L11: =IFERROR(INDIRECT("個票"&$A11&"！$ad$49"),"") -> 0 | M11: =SUM(K11,L11) -> 0 | N11: =IFERROR(INDIRECT("個票"&$A11&"！$ai$27"),"") -> 0 | O11: =IFERROR(INDIRECT("個票"&$A11&"！$ai$49"),"") -> 0 | P11: =SUM(N11,O11) -> 0
A12: =ROW()-4 -> 8 | B12: =IFERROR(INDIRECT("個票"&$A12&"！$t$7"),"") -> 0 | C12: =IFERROR(INDIRECT("個票"&$A12&"！$h$7"),"") -> 0 | D12: =IFERROR(INDIRECT("個票"&$A12&"！$l$10"),"") -> 0 | E12: =IFERROR(INDIRECT("個票"&$A12&"！$w$9"),"") -> 0 | F12: =IFERROR(INDIRECT("個票"&$A12&"！$ｄ$9")&INDIRECT("個票"&$A12&"！$ｈ$9"),"") -> 新潟県 | G12: =IF(J12>0,報告書!$W$7,"") | H12: =IFERROR(INDIRECT("個票"&$A12&"！$Y$27"),"") -> 0 | I12: =IFERROR(INDIRECT("個票"&$A12&"！$Y$49"),"") -> 0 | J12: =SUM(H12,I12) -> 0 | K12: =IFERROR(INDIRECT("個票"&$A12&"！$ad$27"),"") -> 0 | L12: =IFERROR(INDIRECT("個票"&$A12&"！$ad$49"),"") -> 0 | M12: =SUM(K12,L12) -> 0 | N12: =IFERROR(INDIRECT("個票"&$A12&"！$ai$27"),"") -> 0 | O12: =IFERROR(INDIRECT("個票"&$A12&"！$ai$49"),"") -> 0 | P12: =SUM(N12,O12) -> 0
A13: =ROW()-4 -> 9 | B13: =IFERROR(INDIRECT("個票"&$A13&"！$t$7"),"") -> 0 | C13: =IFERROR(INDIRECT("個票"&$A13&"！$h$7"),"") -> 0 | D13: =IFERROR(INDIRECT("個票"&$A13&"！$l$10"),"") -> 0 | E13: =IFERROR(INDIRECT("個票"&$A13&"！$w$9"),"") -> 0 | F13: =IFERROR(INDIRECT("個票"&$A13&"！$ｄ$9")&INDIRECT("個票"&$A13&"！$ｈ$9"),"") -> 新潟県 | G13: =IF(J13>0,報告書!$W$7,"") | H13: =IFERROR(INDIRECT("個票"&$A13&"！$Y$27"),"") -> 0 | I13: =IFERROR(INDIRECT("個票"&$A13&"！$Y$49"),"") -> 0 | J13: =SUM(H13,I13) -> 0 | K13: =IFERROR(INDIRECT("個票"&$A13&"！$ad$27"),"") -> 0 | L13: =IFERROR(INDIRECT("個票"&$A13&"！$ad$49"),"") -> 0 | M13: =SUM(K13,L13) -> 0 | N13: =IFERROR(INDIRECT("個票"&$A13&"！$ai$27"),"") -> 0 | O13: =IFERROR(INDIRECT("個票"&$A13&"！$ai$49"),"") -> 0 | P13: =SUM(N13,O13) -> 0
A14: =ROW()-4 -> 10 | B14: =IFERROR(INDIRECT("個票"&$A14&"！$t$7"),"") -> 0 | C14: =IFERROR(INDIRECT("個票"&$A14&"！$h$7"),"") -> 0 | D14: =IFERROR(INDIRECT("個票"&$A14&"！$l$10"),"") -> 0 | E14: =IFERROR(INDIRECT("個票"&$A14&"！$w$9"),"") -> 0 | F14: =IFERROR(INDIRECT("個票"&$A14&"！$ｄ$9")&INDIRECT("個票"&$A14&"！$ｈ$9"),"") -> 新潟県 | G14: =IF(J14>0,報告書!$W$7,"") | H14: =IFERROR(INDIRECT("個票"&$A14&"！$Y$27"),"") -> 0 | I14: =IFERROR(INDIRECT("個票"&$A14&"！$Y$49"),"") -> 0 | J14: =SUM(H14,I14) -> 0 | K14: =IFERROR(INDIRECT("個票"&$A14&"！$ad$27"),"") -> 0 | L14: =IFERROR(INDIRECT("個票"&$A14&"！$ad$49"),"") -> 0 | M14: =SUM(K14,L14) -> 0 | N14: =IFERROR(INDIRECT("個票"&$A14&"！$ai$27"),"") -> 0 | O14: =IFERROR(INDIRECT("個票"&$A14&"！$ai$49"),"") -> 0 | P14: =SUM(N14,O14) -> 0
A15: =ROW()-4 -> 11 | B15: =IFERROR(INDIRECT("個票"&$A15&"！$t$7"),"") -> 0 | C15: =IFERROR(INDIRECT("個票"&$A15&"！$h$7"),"") -> 0 | D15: =IFERROR(INDIRECT("個票"&$A15&"！$l$10"),"") -> 0 | E15: =IFERROR(INDIRECT("個票"&$A15&"！$w$9"),"") -> 0 | F15: =IFERROR(INDIRECT("個票"&$A15&"！$ｄ$9")&INDIRECT("個票"&$A15&"！$ｈ$9"),"") -> 新潟県 | G15: =IF(J15>0,報告書!$W$7,"") | H15: =IFERROR(INDIRECT("個票"&$A15&"！$Y$27"),"") -> 0 | I15: =IFERROR(INDIRECT("個票"&$A15&"！$Y$49"),"") -> 0 | J15: =SUM(H15,I15) -> 0 | K15: =IFERROR(INDIRECT("個票"&$A15&"！$ad$27"),"") -> 0 | L15: =IFERROR(INDIRECT("個票"&$A15&"！$ad$49"),"") -> 0 | M15: =SUM(K15,L15) -> 0 | N15: =IFERROR(INDIRECT("個票"&$A15&"！$ai$27"),"") -> 0 | O15: =IFERROR(INDIRECT("個票"&$A15&"！$ai$49"),"") -> 0 | P15: =SUM(N15,O15) -> 0
A16: =ROW()-4 -> 12 | B16: =IFERROR(INDIRECT("個票"&$A16&"！$t$7"),"") -> 0 | C16: =IFERROR(INDIRECT("個票"&$A16&"！$h$7"),"") -> 0 | D16: =IFERROR(INDIRECT("個票"&$A16&"！$l$10"),"") -> 0 | E16: =IFERROR(INDIRECT("個票"&$A16&"！$w$9"),"") -> 0 | F16: =IFERROR(INDIRECT("個票"&$A16&"！$ｄ$9")&INDIRECT("個票"&$A16&"！$ｈ$9"),"") -> 新潟県 | G16: =IF(J16>0,報告書!$W$7,"") | H16: =IFERROR(INDIRECT("個票"&$A16&"！$Y$27"),"") -> 0 | I16: =IFERROR(INDIRECT("個票"&$A16&"！$Y$49"),"") -> 0 | J16: =SUM(H16,I16) -> 0 | K16: =IFERROR(INDIRECT("個票"&$A16&"！$ad$27"),"") -> 0 | L16: =IFERROR(INDIRECT("個票"&$A16&"！$ad$49"),"") -> 0 | M16: =SUM(K16,L16) -> 0 | N16: =IFERROR(INDIRECT("個票"&$A16&"！$ai$27"),"") -> 0 | O16: =IFERROR(INDIRECT("個票"&$A16&"！$ai$49"),"") -> 0 | P16: =SUM(N16,O16) -> 0
... A54: =ROW()-4 -> 50 | B54: =IFERROR(INDIRECT("個票"&$A54&"！$t$7"),"") -> 0 | C54: =IFERROR(INDIRECT("個票"&$A54&"！$h$7"),"") -> 0 | D54: =IFERROR(INDIRECT("個票"&$A54&"！$l$10"),"") -> 0 | E54: =IFERROR(INDIRECT("個票"&$A54&"！$w$9"),"") -> 0 | F54: =IFERROR(INDIRECT("個票"&$A54&"！$ｄ$9")&INDIRECT("個票"&$A54&"！$ｈ$9"),"") -> 新潟県 | G54: =IF(J54>0,報告書!$W$7,"") | H54: =IFERROR(INDIRECT("個票"&$A54&"！$Y$27"),"") -> 0 | I54: =IFERROR(INDIRECT("個票"&$A54&"！$Y$49"),"") -> 0 | J54: =SUM(H54,I54) -> 0 | K54: =IFERROR(INDIRECT("個票"&$A54&"！$ad$27"),"") -> 0 | L54: =IFERROR(INDIRECT("個票"&$A54&"！$ad$49"),"") -> 0 | M54: =SUM(K54,L54) -> 0 | N54: =IFERROR(INDIRECT("個票"&$A54&"！$ai$27"),"") -> 0 | O54: =IFERROR(INDIRECT("個票"&$A54&"！$ai$49"),"") -> 0 | P54: =SUM(N54,O54) -> 0
A56: （注）行が不足する場合には、「本報告書の使い方」に従って、行を追加すること。列の挿入は絶対に行わないこと。

Sheet 重点報告書
A1: （別記様式２）
AC3: 令和 | AF3: 年 | AI3: 月 | AL3: 日
A5: 新潟県知事 | I5: 殿
W7: =報告書!W7 -> （法人名）
W8: =報告書!W8 -> （役職・代表者名）
A10: 新潟県介護施設等に対する物価高騰対策サービス継続支援事業補助金実績報告書
A13: 標記の補助金に係る事業実績について、次のとおり関係書類を添えて報告する。
B15: 交付決定額 ： | K15: =SUM(重点清算額一覧!H5:H19) -> 0 | S15: 千円
B16: 実 績 額 ： | K16: =SUM(重点清算額一覧!I5:I19) -> 0 | S16: 千円
B17: 返 還 額 ： | K17: =SUM(重点清算額一覧!J5:J19) -> 0 | S17: 千円
B22: （添付書類）
B23: １ 施設別清算額一覧（付表１）
B24: ２ サービス継続支援事業に関する事業実績報告書（事業所単位）（付表２）
T30: 【報告内容に関する問い合わせ先】
U32: 報告法人住所
U33: 部署名
U34: 担当者氏名
U35: 連絡先 | Y35: 電話番号
Y36: e-mail

Sheet 重点清算額一覧
A1: （付表１）施設別清算額一覧
A3: No. | B3: 事業所・施設名 | C3: 介護保険 事業所番号 | D3: サービス種別 | E3: 電話番号 | F3: 住所 | G3: 代表となる 事業所・施設名 | H3: 交付決定額（千円） | I3: 実績額（千円） | J3: 差引額（千円） | L3: 審査 結果
H4: 介護施設等に対するサービス継続支援事業 | I4: 介護施設等に対するサービス継続支援事業 | J4: 介護施設等に対するサービス継続支援事業 | K4: 合計
A5: =ROW()-4 -> 1 | B5: =IFERROR(INDIRECT("個票"&$A5&"！$t$7"),"") -> 0 | C5: =IFERROR(INDIRECT("個票"&$A5&"！$h$7"),"") -> 0 | D5: =IFERROR(INDIRECT("個票"&$A5&"！$l$10"),"") -> 0 | E5: =IFERROR(INDIRECT("個票"&$A5&"！$w$9"),"") -> 0 | F5: =IFERROR(INDIRECT("個票"&$A5&"！$ｄ$9")&INDIRECT("個票"&$A5&"！$ｈ$9"),"") -> 新潟県 | G5: =IF(H5>0,報告書!$W$7,"") | H5: =IFERROR(INDIRECT("個票"&$A5&"！$Y$49"),"") -> 0 | I5: =IFERROR(INDIRECT("個票"&$A5&"！$ad$49"),"") -> 0 | J5: =IFERROR(INDIRECT("個票"&$A5&"！$ai$49"),"") -> 0 | K5: =SUM(H5:J5) -> 0
A6: =ROW()-4 -> 2 | B6: =IFERROR(INDIRECT("個票"&$A6&"！$t$7"),"") -> 0 | C6: =IFERROR(INDIRECT("個票"&$A6&"！$h$7"),"") -> 0 | D6: =IFERROR(INDIRECT("個票"&$A6&"！$l$10"),"") -> 0 | E6: =IFERROR(INDIRECT("個票"&$A6&"！$w$9"),"") -> 0 | F6: =IFERROR(INDIRECT("個票"&$A6&"！$ｄ$9")&INDIRECT("個票"&$A6&"！$ｈ$9"),"") -> 新潟県 | G6: =IF(H6>0,報告書!$W$7,"") | H6: =IFERROR(INDIRECT("個票"&$A6&"！$Y$49"),"") -> 0 | I6: =IFERROR(INDIRECT("個票"&$A6&"！$ad$49"),"") -> 0 | J6: =IFERROR(INDIRECT("個票"&$A6&"！$ai$49"),"") -> 0 | K6: =SUM(H6:J6) -> 0
A7: =ROW()-4 -> 3 | B7: =IFERROR(INDIRECT("個票"&$A7&"！$t$7"),"") -> 0 | C7: =IFERROR(INDIRECT("個票"&$A7&"！$h$7"),"") -> 0 | D7: =IFERROR(INDIRECT("個票"&$A7&"！$l$10"),"") -> 0 | E7: =IFERROR(INDIRECT("個票"&$A7&"！$w$9"),"") -> 0 | F7: =IFERROR(INDIRECT("個票"&$A7&"！$ｄ$9")&INDIRECT("個票"&$A7&"！$ｈ$9"),"") -> 新潟県 | G7: =IF(H7>0,報告書!$W$7,"") | H7: =IFERROR(INDIRECT("個票"&$A7&"！$Y$49"),"") -> 0 | I7: =IFERROR(INDIRECT("個票"&$A7&"！$ad$49"),"") -> 0 | J7: =IFERROR(INDIRECT("個票"&$A7&"！$ai$49"),"") -> 0 | K7: =SUM(H7:J7) -> 0
A8: =ROW()-4 -> 4 | B8: =IFERROR(INDIRECT("個票"&$A8&"！$t$7"),"") -> 0 | C8: =IFERROR(INDIRECT("個票"&$A8&"！$h$7"),"") -> 0 | D8: =IFERROR(INDIRECT("個票"&$A8&"！$l$10"),"") -> 0 | E8: =IFERROR(INDIRECT("個票"&$A8&"！$w$9"),"") -> 0 | F8: =IFERROR(INDIRECT("個票"&$A8&"！$ｄ$9")&INDIRECT("個票"&$A8&"！$ｈ$9"),"") -> 新潟県 | G8: =IF(H8>0,報告書!$W$7,"") | H8: =IFERROR(INDIRECT("個票"&$A8&"！$Y$49"),"") -> 0 | I8: =IFERROR(INDIRECT("個票"&$A8&"！$ad$49"),"") -> 0 | J8: =IFERROR(INDIRECT("個票"&$A8&"！$ai$49"),"") -> 0 | K8: =SUM(H8:J8) -> 0
A9: =ROW()-4 -> 5 | B9: =IFERROR(INDIRECT("個票"&$A9&"！$t$7"),"") -> 0 | C9: =IFERROR(INDIRECT("個票"&$A9&"！$h$7"),"") -> 0 | D9: =IFERROR(INDIRECT("個票"&$A9&"！$l$10"),"") -> 0 | E9: =IFERROR(INDIRECT("個票"&$A9&"！$w$9"),"") -> 0 | F9: =IFERROR(INDIRECT("個票"&$A9&"！$ｄ$9")&INDIRECT("個票"&$A9&"！$ｈ$9"),"") -> 新潟県 | G9: =IF(H9>0,報告書!$W$7,"") | H9: =IFERROR(INDIRECT("個票"&$A9&"！$Y$49"),"") -> 0 | I9: =IFERROR(INDIRECT("個票"&$A9&"！$ad$49"),"") -> 0 | J9: =IFERROR(INDIRECT("個票"&$A9&"！$ai$49"),"") -> 0 | K9: =SUM(H9:J9) -> 0
A10: =ROW()-4 -> 6 | B10: =IFERROR(INDIRECT("個票"&$A10&"！$t$7"),"") -> 0 | C10: =IFERROR(INDIRECT("個票"&$A10&"！$h$7"),"") -> 0 | D10: =IFERROR(INDIRECT("個票"&$A10&"！$l$10"),"") -> 0 | E10: =IFERROR(INDIRECT("個票"&$A10&"！$w$9"),"") -> 0 | F10: =IFERROR(INDIRECT("個票"&$A10&"！$ｄ$9")&INDIRECT("個票"&$A10&"！$ｈ$9"),"") -> 新潟県 | G10: =IF(H10>0,報告書!$W$7,"") | H10: =IFERROR(INDIRECT("個票"&$A10&"！$Y$49"),"") -> 0 | I10: =IFERROR(INDIRECT("個票"&$A10&"！$ad$49"),"") -> 0 | J10: =IFERROR(INDIRECT("個票"&$A10&"！$ai$49"),"") -> 0 | K10: =SUM(H10:J10) -> 0
A11: =ROW()-4 -> 7 | B11: =IFERROR(INDIRECT("個票"&$A11&"！$t$7"),"") -> 0 | C11: =IFERROR(INDIRECT("個票"&$A11&"！$h$7"),"") -> 0 | D11: =IFERROR(INDIRECT("個票"&$A11&"！$l$10"),"") -> 0 | E11: =IFERROR(INDIRECT("個票"&$A11&"！$w$9"),"") -> 0 | F11: =IFERROR(INDIRECT("個票"&$A11&"！$ｄ$9")&INDIRECT("個票"&$A11&"！$ｈ$9"),"") -> 新潟県 | G11: =IF(H11>0,報告書!$W$7,"") | H11: =IFERROR(INDIRECT("個票"&$A11&"！$Y$49"),"") -> 0 | I11: =IFERROR(INDIRECT("個票"&$A11&"！$ad$49"),"") -> 0 | J11: =IFERROR(INDIRECT("個票"&$A11&"！$ai$49"),"") -> 0 | K11: =SUM(H11:J11) -> 0
A12: =ROW()-4 -> 8 | B12: =IFERROR(INDIRECT("個票"&$A12&"！$t$7"),"") -> 0 | C12: =IFERROR(INDIRECT("個票"&$A12&"！$h$7"),"") -> 0 | D12: =IFERROR(INDIRECT("個票"&$A12&"！$l$10"),"") -> 0 | E12: =IFERROR(INDIRECT("個票"&$A12&"！$w$9"),"") -> 0 | F12: =IFERROR(INDIRECT("個票"&$A12&"！$ｄ$9")&INDIRECT("個票"&$A12&"！$ｈ$9"),"") -> 新潟県 | G12: =IF(H12>0,報告書!$W$7,"") | H12: =IFERROR(INDIRECT("個票"&$A12&"！$Y$49"),"") -> 0 | I12: =IFERROR(INDIRECT("個票"&$A12&"！$ad$49"),"") -> 0 | J12: =IFERROR(INDIRECT("個票"&$A12&"！$ai$49"),"") -> 0 | K12: =SUM(H12:J12) -> 0
A13: =ROW()-4 -> 9 | B13: =IFERROR(INDIRECT("個票"&$A13&"！$t$7"),"") -> 0 | C13: =IFERROR(INDIRECT("個票"&$A13&"！$h$7"),"") -> 0 | D13: =IFERROR(INDIRECT("個票"&$A13&"！$l$10"),"") -> 0 | E13: =IFERROR(INDIRECT("個票"&$A13&"！$w$9"),"") -> 0 | F13: =IFERROR(INDIRECT("個票"&$A13&"！$ｄ$9")&INDIRECT("個票"&$A13&"！$ｈ$9"),"") -> 新潟県 | G13: =IF(H13>0,報告書!$W$7,"") | H13: =IFERROR(INDIRECT("個票"&$A13&"！$Y$49"),"") -> 0 | I13: =IFERROR(INDIRECT("個票"&$A13&"！$ad$49"),"") -> 0 | J13: =IFERROR(INDIRECT("個票"&$A13&"！$ai$49"),"") -> 0 | K13: =SUM(H13:J13) -> 0
A14: =ROW()-4 -> 10 | B14: =IFERROR(INDIRECT("個票"&$A14&"！$t$7"),"") -> 0 | C14: =IFERROR(INDIRECT("個票"&$A14&"！$h$7"),"") -> 0 | D14: =IFERROR(INDIRECT("個票"&$A14&"！$l$10"),"") -> 0 | E14: =IFERROR(INDIRECT("個票"&$A14&"！$w$9"),"") -> 0 | F14: =IFERROR(INDIRECT("個票"&$A14&"！$ｄ$9")&INDIRECT("個票"&$A14&"！$ｈ$9"),"") -> 新潟県 | G14: =IF(H14>0,報告書!$W$7,"") | H14: =IFERROR(INDIRECT("個票"&$A14&"！$Y$49"),"") -> 0 | I14: =IFERROR(INDIRECT("個票"&$A14&"！$ad$49"),"") -> 0 | J14: =IFERROR(INDIRECT("個票"&$A14&"！$ai$49"),"") -> 0 | K14: =SUM(H14:J14) -> 0
A15: =ROW()-4 -> 11 | B15: =IFERROR(INDIRECT("個票"&$A15&"！$t$7"),"") -> 0 | C15: =IFERROR(INDIRECT("個票"&$A15&"！$h$7"),"") -> 0 | D15: =IFERROR(INDIRECT("個票"&$A15&"！$l$10"),"") -> 0 | E15: =IFERROR(INDIRECT("個票"&$A15&"！$w$9"),"") -> 0 | F15: =IFERROR(INDIRECT("個票"&$A15&"！$ｄ$9")&INDIRECT("個票"&$A15&"！$ｈ$9"),"") -> 新潟県 | G15: =IF(H15>0,報告書!$W$7,"") | H15: =IFERROR(INDIRECT("個票"&$A15&"！$Y$49"),"") -> 0 | I15: =IFERROR(INDIRECT("個票"&$A15&"！$ad$49"),"") -> 0 | J15: =IFERROR(INDIRECT("個票"&$A15&"！$ai$49"),"") -> 0 | K15: =SUM(H15:J15) -> 0
A16: =ROW()-4 -> 12 | B16: =IFERROR(INDIRECT("個票"&$A16&"！$t$7"),"") -> 0 | C16: =IFERROR(INDIRECT("個票"&$A16&"！$h$7"),"") -> 0 | D16: =IFERROR(INDIRECT("個票"&$A16&"！$l$10"),"") -> 0 | E16: =IFERROR(INDIRECT("個票"&$A16&"！$w$9"),"") -> 0 | F16: =IFERROR(INDIRECT("個票"&$A16&"！$ｄ$9")&INDIRECT("個票"&$A16&"！$ｈ$9"),"") -> 新潟県 | G16: =IF(H16>0,報告書!$W$7,"") | H16: =IFERROR(INDIRECT("個票"&$A16&"！$Y$49"),"") -> 0 | I16: =IFERROR(INDIRECT("個票"&$A16&"！$ad$49"),"") -> 0 | J16: =IFERROR(INDIRECT("個票"&$A16&"！$ai$49"),"") -> 0 | K16: =SUM(H16:J16) -> 0
... A18: =ROW()-4 -> 14 | B18: =IFERROR(INDIRECT("個票"&$A18&"！$t$7"),"") -> 0 | C18: =IFERROR(INDIRECT("個票"&$A18&"！$h$7"),"") -> 0 | D18: =IFERROR(INDIRECT("個票"&$A18&"！$l$10"),"") -> 0 | E18: =IFERROR(INDIRECT("個票"&$A18&"！$w$9"),"") -> 0 | F18: =IFERROR(INDIRECT("個票"&$A18&"！$ｄ$9")&INDIRECT("個票"&$A18&"！$ｈ$9"),"") -> 新潟県 | G18: =IF(H18>0,報告書!$W$7,"") | H18: =IFERROR(INDIRECT("個票"&$A18&"！$Y$49"),"") -> 0 | I18: =IFERROR(INDIRECT("個票"&$A18&"！$ad$49"),"") -> 0 | J18: =IFERROR(INDIRECT("個票"&$A18&"！$ai$49"),"") -> 0 | K18: =SUM(H18:J18) -> 0
A19: =ROW()-4 -> 15 | B19: =IFERROR(INDIRECT("個票"&$A19&"！$t$7"),"") -> 0 | C19: =IFERROR(INDIRECT("個票"&$A19&"！$h$7"),"") -> 0 | D19: =IFERROR(INDIRECT("個票"&$A19&"！$l$10"),"") -> 0 | E19: =IFERROR(INDIRECT("個票"&$A19&"！$w$9"),"") -> 0 | F19: =IFERROR(INDIRECT("個票"&$A19&"！$ｄ$9")&INDIRECT("個票"&$A19&"！$ｈ$9"),"") -> 新潟県 | G19: =IF(H19>0,報告書!$W$7,"") | H19: =IFERROR(INDIRECT("個票"&$A19&"！$Y$49"),"") -> 0 | I19: =IFERROR(INDIRECT("個票"&$A19&"！$ad$49"),"") -> 0 | J19: =IFERROR(INDIRECT("個票"&$A19&"！$ai$47"),"") -> 0 | K19: =SUM(H19:J19) -> 0
A21: （注）行が不足する場合には、「本報告書の使い方」に従って、行を追加すること。列の挿入は絶対に行わないこと。

Sheet 単価表
A1: 別添 | C1: 新型コロナウイルス感染症緊急包括支援事業（介護分）
A2: 基準単価（単位：千円、１事業所又は１定員当たり） | I2: （１）②ⅰ今後に備えた都道府県における消毒液・マスク等の備蓄
G3: （１）① 感染症対策を徹底した上での介護サービス提供支援事業
C4: 助成対象 事業所・施設等の種別（※１） | G4: 令和２年４月１日以降、感染症を対策を徹底した上で、介護サービス提供を行うために必要なかかり増し経費が発生した介護サービス事業所・施設等（１～２８）（※２）
C5: 通所系 | D5: 1 | E5: 通所介護事業所 | F5: 通常規模型 | G5: 653 | H5: /事業所
D6: 2 | F6: 大規模型（Ⅰ） | G6: 831 | H6: /事業所
D7: 3 | F7: 大規模型（Ⅱ） | G7: 1075 | H7: /事業所
D8: 4 | E8: 地域密着型通所介護事業所（療養通所介護事業所を含む） | G8: 305 | H8: /事業所
D9: 5 | E9: 認知症対応型通所介護事業所 | G9: 340 | H9: /事業所
D10: 6 | E10: 通所リハビリテーション事業所 | F10: 通常規模型 | G10: 642 | H10: /事業所
D11: 7 | F11: 大規模型（Ⅰ） | G11: 776 | H11: /事業所
D12: 8 | F12: 大規模型（Ⅱ） | G12: 1272 | H12: /事業所
C13: 短期入所系 | D13: 9 | E13: 短期入所生活介護事業所、短期入所療養介護事業所 | G13: 44 | H13: /定員
C14: 訪問系 | D14: 10 | E14: 訪問介護事業所 | G14: 500 | H14: /事業所
D15: 11 | E15: 訪問入浴介護事業所 | G15: 431 | H15: /事業所
D16: 12 | E16: 訪問看護事業所 | G16: 464 | H16: /事業所
D17: 13 | E17: 訪問リハビリテーション事業所 | G17: 153 | H17: /事業所
D18: 14 | E18: 定期巡回・随時対応型訪問介護看護事業所 | G18: 1002 | H18: /事業所
D19: 15 | E19: 夜間対応型訪問介護事業所 | G19: 573 | H19: /事業所
D20: 16 | E20: 居宅介護支援事業所 | G20: 227 | H20: /事業所
D21: 17 | E21: 福祉用具貸与事業所 | G21: 252 | H21: /事業所
D22: 18 | E22: 居宅療養管理指導事業所 | G22: 82 | H22: /事業所
C23: 多機能型 | D23: 19 | E23: 小規模多機能型居宅介護事業所 | G23: 637 | H23: /事業所
D24: 20 | E24: 看護小規模多機能型居宅介護事業所 | G24: 873 | H24: /事業所
C25: 入所施設・ 居住系 | D25: 21 | E25: 介護老人福祉施設 | G25: 40 | H25: /定員
D26: 22 | E26: 地域密着型介護老人福祉施設 | G26: 48 | H26: /定員
D27: 23 | E27: 介護老人保健施設 | G27: 39 | H27: /定員
D28: 24 | E28: 介護医療院 | G28: 48 | H28: /定員
D29: 25 | E29: 介護療養型医療施設 | G29: 43 | H29: /定員
D30: 26 | E30: 認知症対応型共同生活介護事業所 | G30: 48 | H30: /定員
D31: 27 | E31: 養護老人ホーム、軽費老人ホーム、有料老人ホーム、サービス付き高齢者向け住宅（定員30人以上） | G31: 37 | H31: /定員
D32: 28 | E32: 養護老人ホーム、軽費老人ホーム、有料老人ホーム、サービス付き高齢者向け住宅（定員29人以下） | G32: 37 | H32: /定員
A33: 対象経費（※３） | G33: a 感染症対策に要する衛生用品等の物品購入 b 外部専門家等による研修実施 c （研修受講等に要する）旅費・宿泊費等 d 感染発生時対応・衛生用品補完等に柔軟に使える多機能型簡易居室の設置等 e 感染防止を徹底するための面会室の改修費 f 消毒・清掃費用 g 職員が勤務時間外に消毒・清掃等を行った場合の超過勤務手当や休日勤務手当等の割増賃金や、通常想定していない感染症対策に関する業務の実施に伴う手当など、法人（施設）の給与規程等に基づき職員に支払われる手当等のほか、非常勤職員を雇上した場合の賃金【P】 h 感染防止のための増員のため発生する追加的人件費 i 感染防止のための増員等、応援職員に係る職業紹介手数料 j 自動車車の購入又はリース費用 k 自転車の購入又はリース費用 l タブレット等のＩＣＴ機器の購入又はリース費用（通信費用は除く） m 普段と異なる場所でのサービスを実施する際の、賃料・物品の使用料 n 普段と異なる場所でのサービスを実施する際の職員の交通費、利用者の送迎に係る費用 o 訪問介護員による同行指導への謝金
A34: 助成額 | G34: ・事業所・施設ごとに、基準単価と対象経費の実支出額とを比較して少ない方の額を助成額とする。なお、1,000円未満の端数が生じた場合には、これを切り捨てるものとする。 ・また、１事業所・施設当たり上限額に達するまで助成することができる。 ・１事業所・施設に（１）①と（２）①・②の両方を助成することができる。
A35: ※１ 事業所・施設等について、助成の申請時点で指定等を受けている者であり、また
A36: ・ 各介護予防サービスを含むが、介護サービスと介護予防サービスの両方の指定を受けている場合は、１つの事業所・施設として取扱う。
A37: ・ 介護予防・日常生活支援総合事業（指定サービス・介護予防ケアマネジメント）を実施する事業所は、通所型は通所介護事業所（通常規模型）と、訪問型は訪問介護事業所と、
B38: 介護予防ケアマネジメントは居宅介護支援事業所と同じとするが、介護サービスと総合事業の両方の指定を受けている場合は、１つの事業所として取扱う。
A39: ・ 通所介護及び通所リハビリテーションの事業所規模は、介護報酬上の規模区分であり、助成の申請時点で判断すること。
A40: ※２ 利用者又は職員に感染者が発生しているか否かは問わない
...

Sheet (記入例)個票
A5: （付表２）個票見本
A7: サービス継続支援事業に関する事業実績報告書（事業所単位）
A11: 介護保険事業所番号 | H11: 1234567890 | O11: 事業所名称 | T11: 特別養護老人ホーム△△△
A12: 所在地 | D12: 都道府県名 | H12: 住所 | T12: 連絡先 | W12: 電話番号 | AG12: 担当部署名
D13: 新潟県 | H13: 新潟市中央区新光町4番地1 | W13: 025-285-5511 | AG13: 事務課
A14: 提供サービス（プルダウンから選択） | L14: 介護老人福祉施設
A15: 事業区分 | J15: 介護事業所等に対するサービス継続支援事業 | Z15: 介護施設等に対するサービス継続支援事業
A17: 口座情報
A19: 介護分野の職員の賃上げ・職場環境改善支援事業に使用する口座情報を本事業の振込に使用することに同意する | AA19: 介護分野の職員の賃上げ・職場環境改善支援事業の申請 をしない場合は、左欄の✔を外して下さい。
A20: 介護分野の職員の賃上げ・職場環境改善支援事業に使用する口座は債権譲渡されていない | AA20: 債権譲渡されている場合は、左欄の✔を外して下さい。 ※債権譲渡されている場合、都道府県に申請して下さい。
A21: 銀行口座情報シートに本事業の振込に使用する口座情報を記入
A23: 報告にあたっての確認事項 | AX23: 令和8年8月24日付け高齢第774号の交付決定通知書の別表に記載されている事業所ごとの交付決定額をご入力ください。
A25: 領収書、レシート等の根拠資料は事業所において適切に保管している。 | X25: ✔
A26: 支出した費用について、重点支援交付金と重複は生じていない。 | X26: ✔
A28: 支出済額
A30: １．介護事業所等に対するサービス継続支援事業 | Y30: 交付決定額 | AD30: 実績額 | AI30: 差引額
Y31: 600 | AB31: 千円 | AD31: =MIN(Y31,ROUNDDOWN((H40+H50)/1000,0)) -> 600 | AG31: 千円 | AI31: =IF(Y31<AD31,0,Y31-AD31) -> 0 | AL31: 千円
A32: 【介護サービスを円滑に継続するための対応】
A33: 対象経費 | H33: 支出済額（円） | M33: 用途・品目・数量等
A34: 消耗品費 | H34: 6980 | M34: マスク５０枚入り×１０ケース
A35: 燃料費 | H35: 56232 | M35: ガソリン代 R8.７月～9月
A36: 光熱水費 | H36: 513121 | M36: 電気代 R8.７月
A37: 有料道路通行料 | H37: 20000 | M37: ETC R8.5月
A38: 備品購入費 | H38: 52800 | M38: スタッドレスタイヤ4本
A39: その他
A40: 合計 | H40: =SUM(H34:L39) -> 649133
A42: 【災害備蓄等への対応】
A43: 対象経費 | H43: 支出済額（円） | M43: 用途・品目・数量等
A44: 消耗品費
A45: 燃料費
A46: 光熱水費
A47: 有料道路通行料
A48: 備品購入費 | H48: 99980 | M48: ポータブルガソリン発電機１台
A49: その他
A50: 合計 | H50: =SUM(H44:L49) -> 99980
A52: ２．介護施設等に対するサービス継続支援事業 | Y52: 交付決定額 | AD52: 実績額 | AI52: 差引額
Y53: 1800 | AB53: 千円 | AD53: =MIN(Y53,ROUNDDOWN(H59/1000,0)) -> 1800 | AG53: 千円 | AI53: =IF(Y53<AD53,0,Y53-AD53) -> 0 | AL53: 千円
A55: 対象経費 | H55: 支出済額（円） | M55: 用途・品目・数量等
A56: 食材料費
A57: 委託料 | H57: 1905000 | M57: 1月分給食業務委託料
...

Sheet 個票1
A1: （付表２）個票1
A3: サービス継続支援事業に関する事業実績報告書（事業所単位）
A5: 施設概要
A7: 介護保険事業所番号 | O7: 事業所名称
A8: 所在地 | D8: 都道府県名 | H8: 住所 | T8: 連絡先 | W8: 電話番号 | AG8: 担当部署名
D9: 新潟県
A10: 提供サービス（プルダウンから選択）
A11: 事業区分 | I11: FALSE | J11: 介護事業所等に対するサービス継続支援事業 | Y11: FALSE | Z11: 介護施設等に対するサービス継続支援事業
A13: 口座情報
A15: 介護分野の職員の賃上げ・職場環境改善支援事業に使用する口座情報を本事業の振込に使用することに同意する | AA15: 介護分野の職員の賃上げ・職場環境改善支援事業の申請 をしない場合は、左欄の✔を外して下さい。
A16: 介護分野の職員の賃上げ・職場環境改善支援事業に使用する口座は債権譲渡されていない | AA16: 債権譲渡されている場合は、左欄の✔を外して下さい。 ※債権譲渡されている場合、都道府県に申請して下さい。
A17: 銀行口座情報シートに本事業の振込に使用する口座情報を記入
A19: 報告にあたっての確認事項
A21: 領収書、レシート等の根拠資料は事業所において適切に保管している。 | AB21: =$C$200
A22: 支出した費用について、重点支援交付金と重複は生じていない。 | AB22: =$C$202
A24: 支出済額
A26: １．介護事業所等に対するサービス継続支援事業 | Y26: 交付決定額 | AD26: 実績額 | AI26: 差引額
AB27: 千円 | AD27: =MIN(Y27,ROUNDDOWN((H36+H46)/1000,0)) -> 0 | AG27: 千円 | AI27: =IF(Y27<AD27,0,Y27-AD27) -> 0 | AL27: 千円
A28: 【介護サービスを円滑に継続するための対応】
A29: 対象経費 | H29: 支出済額（円） | M29: 用途・品目・数量等
A30: 消耗品費
A31: 燃料費
A32: 光熱水費
A33: 有料道路通行料
A34: 備品購入費
A35: その他
A36: 合計 | H36: =SUM(H30:L35) -> 0
A38: 【災害備蓄等への対応】
A39: 対象経費 | H39: 支出済額（円） | M39: 用途・品目・数量等
A40: 消耗品費
A41: 燃料費
A42: 光熱水費
A43: 有料道路通行料
A44: 備品購入費
A45: その他
A46: 合計 | H46: =SUM(H40:L45) -> 0
A48: ２．介護施設等に対するサービス継続支援事業 | Y48: 交付決定額 | AD48: 実績額 | AI48: 差引額
AB49: 千円 | AD49: =MIN(Y49,ROUNDDOWN(H55/1000,0)) -> 0 | AG49: 千円 | AI49: =IF(Y49<AD49,0,Y49-AD49) -> 0 | AL49: 千円
A51: 対象経費 | H51: 支出済額（円） | M51: 用途・品目・数量等
A52: 食材料費
...

Sheet 個票2
A1: （付表２）個票2
A3: サービス継続支援事業に関する事業実績報告書（事業所単位）
A5: 施設概要
A7: 介護保険事業所番号 | O7: 事業所名称
A8: 所在地 | D8: 都道府県名 | H8: 住所 | T8: 連絡先 | W8: 電話番号 | AG8: 担当部署名
D9: 新潟県
A10: 提供サービス（プルダウンから選択）
A11: 事業区分 | I11: FALSE | J11: 介護事業所等に対するサービス継続支援事業 | Y11: FALSE | Z11: 介護施設等に対するサービス継続支援事業
A13: 口座情報
A15: 介護分野の職員の賃上げ・職場環境改善支援事業に使用する口座情報を本事業の振込に使用することに同意する | AA15: 介護分野の職員の賃上げ・職場環境改善支援事業の申請 をしない場合は、左欄の✔を外して下さい。
A16: 介護分野の職員の賃上げ・職場環境改善支援事業に使用する口座は債権譲渡されていない | AA16: 債権譲渡されている場合は、左欄の✔を外して下さい。 ※債権譲渡されている場合、都道府県に申請して下さい。
A17: 銀行口座情報シートに本事業の振込に使用する口座情報を記入
A19: 報告にあたっての確認事項
A21: 領収書、レシート等の根拠資料は事業所において適切に保管している。 | AB21: =$C$200
A22: 支出した費用について、重点支援交付金と重複は生じていない。 | AB22: =$C$202
A24: 支出済額
A26: １．介護事業所等に対するサービス継続支援事業 | Y26: 交付決定額 | AD26: 実績額 | AI26: 差引額
AB27: 千円 | AD27: =MIN(Y27,ROUNDDOWN((H36+H46)/1000,0)) -> 0 | AG27: 千円 | AI27: =IF(Y27<AD27,0,Y27-AD27) -> 0 | AL27: 千円
A28: 【介護サービスを円滑に継続するための対応】
A29: 対象経費 | H29: 支出済額（円） | M29: 用途・品目・数量等
A30: 消耗品費
A31: 燃料費
A32: 光熱水費
A33: 有料道路通行料
A34: 備品購入費
A35: その他
A36: 合計 | H36: =SUM(H30:L35) -> 0
A38: 【災害備蓄等への対応】
A39: 対象経費 | H39: 支出済額（円） | M39: 用途・品目・数量等
A40: 消耗品費
A41: 燃料費
A42: 光熱水費
A43: 有料道路通行料
A44: 備品購入費
A45: その他
A46: 合計 | H46: =SUM(H40:L45) -> 0
A48: ２．介護施設等に対するサービス継続支援事業 | Y48: 交付決定額 | AD48: 実績額 | AI48: 差引額
AB49: 千円 | AD49: =MIN(Y49,ROUNDDOWN(H55/1000,0)) -> 0 | AG49: 千円 | AI49: =IF(Y49<AD49,0,Y49-AD49) -> 0 | AL49: 千円
A51: 対象経費 | H51: 支出済額（円） | M51: 用途・品目・数量等
A52: 食材料費
...

Sheet 個票3
A1: （付表２）個票3
A3: サービス継続支援事業に関する事業実績報告書（事業所単位）
A5: 施設概要
A7: 介護保険事業所番号 | O7: 事業所名称
A8: 所在地 | D8: 都道府県名 | H8: 住所 | T8: 連絡先 | W8: 電話番号 | AG8: 担当部署名
D9: 新潟県
A10: 提供サービス（プルダウンから選択）
A11: 事業区分 | I11: FALSE | J11: 介護事業所等に対するサービス継続支援事業 | Y11: FALSE | Z11: 介護施設等に対するサービス継続支援事業
A13: 口座情報
A15: 介護分野の職員の賃上げ・職場環境改善支援事業に使用する口座情報を本事業の振込に使用することに同意する | AA15: 介護分野の職員の賃上げ・職場環境改善支援事業の申請 をしない場合は、左欄の✔を外して下さい。
A16: 介護分野の職員の賃上げ・職場環境改善支援事業に使用する口座は債権譲渡されていない | AA16: 債権譲渡されている場合は、左欄の✔を外して下さい。 ※債権譲渡されている場合、都道府県に申請して下さい。
A17: 銀行口座情報シートに本事業の振込に使用する口座情報を記入
A19: 報告にあたっての確認事項
A21: 領収書、レシート等の根拠資料は事業所において適切に保管している。 | AB21: =$C$200
A22: 支出した費用について、重点支援交付金と重複は生じていない。 | AB22: =$C$202
A24: 支出済額
A26: １．介護事業所等に対するサービス継続支援事業 | Y26: 交付決定額 | AD26: 実績額 | AI26: 差引額
AB27: 千円 | AD27: =MIN(Y27,ROUNDDOWN((H36+H46)/1000,0)) -> 0 | AG27: 千円 | AI27: =IF(Y27<AD27,0,Y27-AD27) -> 0 | AL27: 千円
A28: 【介護サービスを円滑に継続するための対応】
A29: 対象経費 | H29: 支出済額（円） | M29: 用途・品目・数量等
A30: 消耗品費
A31: 燃料費
A32: 光熱水費
A33: 有料道路通行料
A34: 備品購入費
A35: その他
A36: 合計 | H36: =SUM(H30:L35) -> 0
A38: 【災害備蓄等への対応】
A39: 対象経費 | H39: 支出済額（円） | M39: 用途・品目・数量等
A40: 消耗品費
A41: 燃料費
A42: 光熱水費
A43: 有料道路通行料
A44: 備品購入費
A45: その他
A46: 合計 | H46: =SUM(H40:L45) -> 0
A48: ２．介護施設等に対するサービス継続支援事業 | Y48: 交付決定額 | AD48: 実績額 | AI48: 差引額
AB49: 千円 | AD49: =MIN(Y49,ROUNDDOWN(H55/1000,0)) -> 0 | AG49: 千円 | AI49: =IF(Y49<AD49,0,Y49-AD49) -> 0 | AL49: 千円
A51: 対象経費 | H51: 支出済額（円） | M51: 用途・品目・数量等
A52: 食材料費
...

Sheet 個票4
A1: （付表２）個票4
A3: サービス継続支援事業に関する事業実績報告書（事業所単位）
A5: 施設概要
A7: 介護保険事業所番号 | O7: 事業所名称
A8: 所在地 | D8: 都道府県名 | H8: 住所 | T8: 連絡先 | W8: 電話番号 | AG8: 担当部署名
D9: 新潟県
A10: 提供サービス（プルダウンから選択）
A11: 事業区分 | I11: FALSE | J11: 介護事業所等に対するサービス継続支援事業 | Y11: FALSE | Z11: 介護施設等に対するサービス継続支援事業
A13: 口座情報
A15: 介護分野の職員の賃上げ・職場環境改善支援事業に使用する口座情報を本事業の振込に使用することに同意する | AA15: 介護分野の職員の賃上げ・職場環境改善支援事業の申請 をしない場合は、左欄の✔を外して下さい。
A16: 介護分野の職員の賃上げ・職場環境改善支援事業に使用する口座は債権譲渡されていない | AA16: 債権譲渡されている場合は、左欄の✔を外して下さい。 ※債権譲渡されている場合、都道府県に申請して下さい。
A17: 銀行口座情報シートに本事業の振込に使用する口座情報を記入
A19: 報告にあたっての確認事項
A21: 領収書、レシート等の根拠資料は事業所において適切に保管している。 | AB21: =$C$200
A22: 支出した費用について、重点支援交付金と重複は生じていない。 | AB22: =$C$202
A24: 支出済額
A26: １．介護事業所等に対するサービス継続支援事業 | Y26: 交付決定額 | AD26: 実績額 | AI26: 差引額
AB27: 千円 | AD27: =MIN(Y27,ROUNDDOWN((H36+H46)/1000,0)) -> 0 | AG27: 千円 | AI27: =IF(Y27<AD27,0,Y27-AD27) -> 0 | AL27: 千円
A28: 【介護サービスを円滑に継続するための対応】
A29: 対象経費 | H29: 支出済額（円） | M29: 用途・品目・数量等
A30: 消耗品費
A31: 燃料費
A32: 光熱水費
A33: 有料道路通行料
A34: 備品購入費
A35: その他
A36: 合計 | H36: =SUM(H30:L35) -> 0
A38: 【災害備蓄等への対応】
A39: 対象経費 | H39: 支出済額（円） | M39: 用途・品目・数量等
A40: 消耗品費
A41: 燃料費
A42: 光熱水費
A43: 有料道路通行料
A44: 備品購入費
A45: その他
A46: 合計 | H46: =SUM(H40:L45) -> 0
A48: ２．介護施設等に対するサービス継続支援事業 | Y48: 交付決定額 | AD48: 実績額 | AI48: 差引額
AB49: 千円 | AD49: =MIN(Y49,ROUNDDOWN(H55/1000,0)) -> 0 | AG49: 千円 | AI49: =IF(Y49<AD49,0,Y49-AD49) -> 0 | AL49: 千円
A51: 対象経費 | H51: 支出済額（円） | M51: 用途・品目・数量等
A52: 食材料費
...

Sheet 個票5
A1: （付表２）個票5
A3: サービス継続支援事業に関する事業実績報告書（事業所単位）
A5: 施設概要
A7: 介護保険事業所番号 | O7: 事業所名称
A8: 所在地 | D8: 都道府県名 | H8: 住所 | T8: 連絡先 | W8: 電話番号 | AG8: 担当部署名
D9: 新潟県
A10: 提供サービス（プルダウンから選択）
A11: 事業区分 | I11: FALSE | J11: 介護事業所等に対するサービス継続支援事業 | Y11: FALSE | Z11: 介護施設等に対するサービス継続支援事業
A13: 口座情報
A15: 介護分野の職員の賃上げ・職場環境改善支援事業に使用する口座情報を本事業の振込に使用することに同意する | AA15: 介護分野の職員の賃上げ・職場環境改善支援事業の申請 をしない場合は、左欄の✔を外して下さい。
A16: 介護分野の職員の賃上げ・職場環境改善支援事業に使用する口座は債権譲渡されていない | AA16: 債権譲渡されている場合は、左欄の✔を外して下さい。 ※債権譲渡されている場合、都道府県に申請して下さい。
A17: 銀行口座情報シートに本事業の振込に使用する口座情報を記入
A19: 報告にあたっての確認事項
A21: 領収書、レシート等の根拠資料は事業所において適切に保管している。 | AB21: =$C$200
A22: 支出した費用について、重点支援交付金と重複は生じていない。 | AB22: =$C$202
A24: 支出済額
A26: １．介護事業所等に対するサービス継続支援事業 | Y26: 交付決定額 | AD26: 実績額 | AI26: 差引額
AB27: 千円 | AD27: =MIN(Y27,ROUNDDOWN((H36+H46)/1000,0)) -> 0 | AG27: 千円 | AI27: =IF(Y27<AD27,0,Y27-AD27) -> 0 | AL27: 千円
A28: 【介護サービスを円滑に継続するための対応】
A29: 対象経費 | H29: 支出済額（円） | M29: 用途・品目・数量等
A30: 消耗品費
A31: 燃料費
A32: 光熱水費
A33: 有料道路通行料
A34: 備品購入費
A35: その他
A36: 合計 | H36: =SUM(H30:L35) -> 0
A38: 【災害備蓄等への対応】
A39: 対象経費 | H39: 支出済額（円） | M39: 用途・品目・数量等
A40: 消耗品費
A41: 燃料費
A42: 光熱水費
A43: 有料道路通行料
A44: 備品購入費
A45: その他
A46: 合計 | H46: =SUM(H40:L45) -> 0
A48: ２．介護施設等に対するサービス継続支援事業 | Y48: 交付決定額 | AD48: 実績額 | AI48: 差引額
AB49: 千円 | AD49: =MIN(Y49,ROUNDDOWN(H55/1000,0)) -> 0 | AG49: 千円 | AI49: =IF(Y49<AD49,0,Y49-AD49) -> 0 | AL49: 千円
A51: 対象経費 | H51: 支出済額（円） | M51: 用途・品目・数量等
A52: 食材料費
...

Sheet 個票6
A1: （付表２）個票6
A3: サービス継続支援事業に関する事業実績報告書（事業所単位）
A5: 施設概要
A7: 介護保険事業所番号 | O7: 事業所名称
A8: 所在地 | D8: 都道府県名 | H8: 住所 | T8: 連絡先 | W8: 電話番号 | AG8: 担当部署名
D9: 新潟県
A10: 提供サービス（プルダウンから選択）
A11: 事業区分 | I11: FALSE | J11: 介護事業所等に対するサービス継続支援事業 | Y11: FALSE | Z11: 介護施設等に対するサービス継続支援事業
A13: 口座情報
A15: 介護分野の職員の賃上げ・職場環境改善支援事業に使用する口座情報を本事業の振込に使用することに同意する | AA15: 介護分野の職員の賃上げ・職場環境改善支援事業の申請 をしない場合は、左欄の✔を外して下さい。
A16: 介護分野の職員の賃上げ・職場環境改善支援事業に使用する口座は債権譲渡されていない | AA16: 債権譲渡されている場合は、左欄の✔を外して下さい。 ※債権譲渡されている場合、都道府県に申請して下さい。
A17: 銀行口座情報シートに本事業の振込に使用する口座情報を記入
A19: 報告にあたっての確認事項
A21: 領収書、レシート等の根拠資料は事業所において適切に保管している。 | AB21: =$C$200
A22: 支出した費用について、重点支援交付金と重複は生じていない。 | AB22: =$C$202
A24: 支出済額
A26: １．介護事業所等に対するサービス継続支援事業 | Y26: 交付決定額 | AD26: 実績額 | AI26: 差引額
AB27: 千円 | AD27: =MIN(Y27,ROUNDDOWN((H36+H46)/1000,0)) -> 0 | AG27: 千円 | AI27: =IF(Y27<AD27,0,Y27-AD27) -> 0 | AL27: 千円
A28: 【介護サービスを円滑に継続するための対応】
A29: 対象経費 | H29: 支出済額（円） | M29: 用途・品目・数量等
A30: 消耗品費
A31: 燃料費
A32: 光熱水費
A33: 有料道路通行料
A34: 備品購入費
A35: その他
A36: 合計 | H36: =SUM(H30:L35) -> 0
A38: 【災害備蓄等への対応】
A39: 対象経費 | H39: 支出済額（円） | M39: 用途・品目・数量等
A40: 消耗品費
A41: 燃料費
A42: 光熱水費
A43: 有料道路通行料
A44: 備品購入費
A45: その他
A46: 合計 | H46: =SUM(H40:L45) -> 0
A48: ２．介護施設等に対するサービス継続支援事業 | Y48: 交付決定額 | AD48: 実績額 | AI48: 差引額
AB49: 千円 | AD49: =MIN(Y49,ROUNDDOWN(H55/1000,0)) -> 0 | AG49: 千円 | AI49: =IF(Y49<AD49,0,Y49-AD49) -> 0 | AL49: 千円
A51: 対象経費 | H51: 支出済額（円） | M51: 用途・品目・数量等
A52: 食材料費
...

Sheet 個票7
A1: （付表２）個票7
A3: サービス継続支援事業に関する事業実績報告書（事業所単位）
A5: 施設概要
A7: 介護保険事業所番号 | O7: 事業所名称
A8: 所在地 | D8: 都道府県名 | H8: 住所 | T8: 連絡先 | W8: 電話番号 | AG8: 担当部署名
D9: 新潟県
A10: 提供サービス（プルダウンから選択）
A11: 事業区分 | I11: FALSE | J11: 介護事業所等に対するサービス継続支援事業 | Y11: FALSE | Z11: 介護施設等に対するサービス継続支援事業
A13: 口座情報
A15: 介護分野の職員の賃上げ・職場環境改善支援事業に使用する口座情報を本事業の振込に使用することに同意する | AA15: 介護分野の職員の賃上げ・職場環境改善支援事業の申請 をしない場合は、左欄の✔を外して下さい。
A16: 介護分野の職員の賃上げ・職場環境改善支援事業に使用する口座は債権譲渡されていない | AA16: 債権譲渡されている場合は、左欄の✔を外して下さい。 ※債権譲渡されている場合、都道府県に申請して下さい。
A17: 銀行口座情報シートに本事業の振込に使用する口座情報を記入
A19: 報告にあたっての確認事項
A21: 領収書、レシート等の根拠資料は事業所において適切に保管している。 | AB21: =$C$200
A22: 支出した費用について、重点支援交付金と重複は生じていない。 | AB22: =$C$202
A24: 支出済額
A26: １．介護事業所等に対するサービス継続支援事業 | Y26: 交付決定額 | AD26: 実績額 | AI26: 差引額
AB27: 千円 | AD27: =MIN(Y27,ROUNDDOWN((H36+H46)/1000,0)) -> 0 | AG27: 千円 | AI27: =IF(Y27<AD27,0,Y27-AD27) -> 0 | AL27: 千円
A28: 【介護サービスを円滑に継続するための対応】
A29: 対象経費 | H29: 支出済額（円） | M29: 用途・品目・数量等
A30: 消耗品費
A31: 燃料費
A32: 光熱水費
A33: 有料道路通行料
A34: 備品購入費
A35: その他
A36: 合計 | H36: =SUM(H30:L35) -> 0
A38: 【災害備蓄等への対応】
A39: 対象経費 | H39: 支出済額（円） | M39: 用途・品目・数量等
A40: 消耗品費
A41: 燃料費
A42: 光熱水費
A43: 有料道路通行料
A44: 備品購入費
A45: その他
A46: 合計 | H46: =SUM(H40:L45) -> 0
A48: ２．介護施設等に対するサービス継続支援事業 | Y48: 交付決定額 | AD48: 実績額 | AI48: 差引額
AB49: 千円 | AD49: =MIN(Y49,ROUNDDOWN(H55/1000,0)) -> 0 | AG49: 千円 | AI49: =IF(Y49<AD49,0,Y49-AD49) -> 0 | AL49: 千円
A51: 対象経費 | H51: 支出済額（円） | M51: 用途・品目・数量等
A52: 食材料費
...

Sheet 個票8
A1: （付表２）個票8
A3: サービス継続支援事業に関する事業実績報告書（事業所単位）
A5: 施設概要
A7: 介護保険事業所番号 | O7: 事業所名称
A8: 所在地 | D8: 都道府県名 | H8: 住所 | T8: 連絡先 | W8: 電話番号 | AG8: 担当部署名
D9: 新潟県
A10: 提供サービス（プルダウンから選択）
A11: 事業区分 | I11: FALSE | J11: 介護事業所等に対するサービス継続支援事業 | Y11: FALSE | Z11: 介護施設等に対するサービス継続支援事業
A13: 口座情報
A15: 介護分野の職員の賃上げ・職場環境改善支援事業に使用する口座情報を本事業の振込に使用することに同意する | AA15: 介護分野の職員の賃上げ・職場環境改善支援事業の申請 をしない場合は、左欄の✔を外して下さい。
A16: 介護分野の職員の賃上げ・職場環境改善支援事業に使用する口座は債権譲渡されていない | AA16: 債権譲渡されている場合は、左欄の✔を外して下さい。 ※債権譲渡されている場合、都道府県に申請して下さい。
A17: 銀行口座情報シートに本事業の振込に使用する口座情報を記入
A19: 報告にあたっての確認事項
A21: 領収書、レシート等の根拠資料は事業所において適切に保管している。 | AB21: =$C$200
A22: 支出した費用について、重点支援交付金と重複は生じていない。 | AB22: =$C$202
A24: 支出済額
A26: １．介護事業所等に対するサービス継続支援事業 | Y26: 交付決定額 | AD26: 実績額 | AI26: 差引額
AB27: 千円 | AD27: =MIN(Y27,ROUNDDOWN((H36+H46)/1000,0)) -> 0 | AG27: 千円 | AI27: =IF(Y27<AD27,0,Y27-AD27) -> 0 | AL27: 千円
A28: 【介護サービスを円滑に継続するための対応】
A29: 対象経費 | H29: 支出済額（円） | M29: 用途・品目・数量等
A30: 消耗品費
A31: 燃料費
A32: 光熱水費
A33: 有料道路通行料
A34: 備品購入費
A35: その他
A36: 合計 | H36: =SUM(H30:L35) -> 0
A38: 【災害備蓄等への対応】
A39: 対象経費 | H39: 支出済額（円） | M39: 用途・品目・数量等
A40: 消耗品費
A41: 燃料費
A42: 光熱水費
A43: 有料道路通行料
A44: 備品購入費
A45: その他
A46: 合計 | H46: =SUM(H40:L45) -> 0
A48: ２．介護施設等に対するサービス継続支援事業 | Y48: 交付決定額 | AD48: 実績額 | AI48: 差引額
AB49: 千円 | AD49: =MIN(Y49,ROUNDDOWN(H55/1000,0)) -> 0 | AG49: 千円 | AI49: =IF(Y49<AD49,0,Y49-AD49) -> 0 | AL49: 千円
A51: 対象経費 | H51: 支出済額（円） | M51: 用途・品目・数量等
A52: 食材料費
...

Sheet 個票9
A1: （付表２）個票9
A3: サービス継続支援事業に関する事業実績報告書（事業所単位）
A5: 施設概要
A7: 介護保険事業所番号 | O7: 事業所名称
A8: 所在地 | D8: 都道府県名 | H8: 住所 | T8: 連絡先 | W8: 電話番号 | AG8: 担当部署名
D9: 新潟県
A10: 提供サービス（プルダウンから選択）
A11: 事業区分 | I11: FALSE | J11: 介護事業所等に対するサービス継続支援事業 | Y11: FALSE | Z11: 介護施設等に対するサービス継続支援事業
A13: 口座情報
A15: 介護分野の職員の賃上げ・職場環境改善支援事業に使用する口座情報を本事業の振込に使用することに同意する | AA15: 介護分野の職員の賃上げ・職場環境改善支援事業の申請 をしない場合は、左欄の✔を外して下さい。
A16: 介護分野の職員の賃上げ・職場環境改善支援事業に使用する口座は債権譲渡されていない | AA16: 債権譲渡されている場合は、左欄の✔を外して下さい。 ※債権譲渡されている場合、都道府県に申請して下さい。
A17: 銀行口座情報シートに本事業の振込に使用する口座情報を記入
A19: 報告にあたっての確認事項
A21: 領収書、レシート等の根拠資料は事業所において適切に保管している。 | AB21: =$C$200
A22: 支出した費用について、重点支援交付金と重複は生じていない。 | AB22: =$C$202
A24: 支出済額
A26: １．介護事業所等に対するサービス継続支援事業 | Y26: 交付決定額 | AD26: 実績額 | AI26: 差引額
AB27: 千円 | AD27: =MIN(Y27,ROUNDDOWN((H36+H46)/1000,0)) -> 0 | AG27: 千円 | AI27: =IF(Y27<AD27,0,Y27-AD27) -> 0 | AL27: 千円
A28: 【介護サービスを円滑に継続するための対応】
A29: 対象経費 | H29: 支出済額（円） | M29: 用途・品目・数量等
A30: 消耗品費
A31: 燃料費
A32: 光熱水費
A33: 有料道路通行料
A34: 備品購入費
A35: その他
A36: 合計 | H36: =SUM(H30:L35) -> 0
A38: 【災害備蓄等への対応】
A39: 対象経費 | H39: 支出済額（円） | M39: 用途・品目・数量等
A40: 消耗品費
A41: 燃料費
A42: 光熱水費
A43: 有料道路通行料
A44: 備品購入費
A45: その他
A46: 合計 | H46: =SUM(H40:L45) -> 0
A48: ２．介護施設等に対するサービス継続支援事業 | Y48: 交付決定額 | AD48: 実績額 | AI48: 差引額
AB49: 千円 | AD49: =MIN(Y49,ROUNDDOWN(H55/1000,0)) -> 0 | AG49: 千円 | AI49: =IF(Y49<AD49,0,Y49-AD49) -> 0 | AL49: 千円
A51: 対象経費 | H51: 支出済額（円） | M51: 用途・品目・数量等
A52: 食材料費
...

Sheet 個票10
A1: （付表２）個票10
A3: サービス継続支援事業に関する事業実績報告書（事業所単位）
A5: 施設概要
A7: 介護保険事業所番号 | O7: 事業所名称
A8: 所在地 | D8: 都道府県名 | H8: 住所 | T8: 連絡先 | W8: 電話番号 | AG8: 担当部署名
D9: 新潟県
A10: 提供サービス（プルダウンから選択）
A11: 事業区分 | I11: FALSE | J11: 介護事業所等に対するサービス継続支援事業 | Y11: FALSE | Z11: 介護施設等に対するサービス継続支援事業
A13: 口座情報
A15: 介護分野の職員の賃上げ・職場環境改善支援事業に使用する口座情報を本事業の振込に使用することに同意する | AA15: 介護分野の職員の賃上げ・職場環境改善支援事業の申請 をしない場合は、左欄の✔を外して下さい。
A16: 介護分野の職員の賃上げ・職場環境改善支援事業に使用する口座は債権譲渡されていない | AA16: 債権譲渡されている場合は、左欄の✔を外して下さい。 ※債権譲渡されている場合、都道府県に申請して下さい。
A17: 銀行口座情報シートに本事業の振込に使用する口座情報を記入
A19: 報告にあたっての確認事項
A21: 領収書、レシート等の根拠資料は事業所において適切に保管している。 | AB21: =$C$200
A22: 支出した費用について、重点支援交付金と重複は生じていない。 | AB22: =$C$202
A24: 支出済額
A26: １．介護事業所等に対するサービス継続支援事業 | Y26: 交付決定額 | AD26: 実績額 | AI26: 差引額
AB27: 千円 | AD27: =MIN(Y27,ROUNDDOWN((H36+H46)/1000,0)) -> 0 | AG27: 千円 | AI27: =IF(Y27<AD27,0,Y27-AD27) -> 0 | AL27: 千円
A28: 【介護サービスを円滑に継続するための対応】
A29: 対象経費 | H29: 支出済額（円） | M29: 用途・品目・数量等
A30: 消耗品費
A31: 燃料費
A32: 光熱水費
A33: 有料道路通行料
A34: 備品購入費
A35: その他
A36: 合計 | H36: =SUM(H30:L35) -> 0
A38: 【災害備蓄等への対応】
A39: 対象経費 | H39: 支出済額（円） | M39: 用途・品目・数量等
A40: 消耗品費
A41: 燃料費
A42: 光熱水費
A43: 有料道路通行料
A44: 備品購入費
A45: その他
A46: 合計 | H46: =SUM(H40:L45) -> 0
A48: ２．介護施設等に対するサービス継続支援事業 | Y48: 交付決定額 | AD48: 実績額 | AI48: 差引額
AB49: 千円 | AD49: =MIN(Y49,ROUNDDOWN(H55/1000,0)) -> 0 | AG49: 千円 | AI49: =IF(Y49<AD49,0,Y49-AD49) -> 0 | AL49: 千円
A51: 対象経費 | H51: 支出済額（円） | M51: 用途・品目・数量等
A52: 食材料費
...

Sheet 個票11
A1: （付表２）個票11
A3: サービス継続支援事業に関する事業実績報告書（事業所単位）
A5: 施設概要
A7: 介護保険事業所番号 | O7: 事業所名称
A8: 所在地 | D8: 都道府県名 | H8: 住所 | T8: 連絡先 | W8: 電話番号 | AG8: 担当部署名
D9: 新潟県
A10: 提供サービス（プルダウンから選択）
A11: 事業区分 | I11: FALSE | J11: 介護事業所等に対するサービス継続支援事業 | Y11: FALSE | Z11: 介護施設等に対するサービス継続支援事業
A13: 口座情報
A15: 介護分野の職員の賃上げ・職場環境改善支援事業に使用する口座情報を本事業の振込に使用することに同意する | AA15: 介護分野の職員の賃上げ・職場環境改善支援事業の申請 をしない場合は、左欄の✔を外して下さい。
A16: 介護分野の職員の賃上げ・職場環境改善支援事業に使用する口座は債権譲渡されていない | AA16: 債権譲渡されている場合は、左欄の✔を外して下さい。 ※債権譲渡されている場合、都道府県に申請して下さい。
A17: 銀行口座情報シートに本事業の振込に使用する口座情報を記入
A19: 報告にあたっての確認事項
A21: 領収書、レシート等の根拠資料は事業所において適切に保管している。 | AB21: =$C$200
A22: 支出した費用について、重点支援交付金と重複は生じていない。 | AB22: =$C$202
A24: 支出済額
A26: １．介護事業所等に対するサービス継続支援事業 | Y26: 交付決定額 | AD26: 実績額 | AI26: 差引額
AB27: 千円 | AD27: =MIN(Y27,ROUNDDOWN((H36+H46)/1000,0)) -> 0 | AG27: 千円 | AI27: =IF(Y27<AD27,0,Y27-AD27) -> 0 | AL27: 千円
A28: 【介護サービスを円滑に継続するための対応】
A29: 対象経費 | H29: 支出済額（円） | M29: 用途・品目・数量等
A30: 消耗品費
A31: 燃料費
A32: 光熱水費
A33: 有料道路通行料
A34: 備品購入費
A35: その他
A36: 合計 | H36: =SUM(H30:L35) -> 0
A38: 【災害備蓄等への対応】
A39: 対象経費 | H39: 支出済額（円） | M39: 用途・品目・数量等
A40: 消耗品費
A41: 燃料費
A42: 光熱水費
A43: 有料道路通行料
A44: 備品購入費
A45: その他
A46: 合計 | H46: =SUM(H40:L45) -> 0
A48: ２．介護施設等に対するサービス継続支援事業 | Y48: 交付決定額 | AD48: 実績額 | AI48: 差引額
AB49: 千円 | AD49: =MIN(Y49,ROUNDDOWN(H55/1000,0)) -> 0 | AG49: 千円 | AI49: =IF(Y49<AD49,0,Y49-AD49) -> 0 | AL49: 千円
A51: 対象経費 | H51: 支出済額（円） | M51: 用途・品目・数量等
A52: 食材料費
...

Sheet 個票12
A1: （付表２）個票12
A3: サービス継続支援事業に関する事業実績報告書（事業所単位）
A5: 施設概要
A7: 介護保険事業所番号 | O7: 事業所名称
A8: 所在地 | D8: 都道府県名 | H8: 住所 | T8: 連絡先 | W8: 電話番号 | AG8: 担当部署名
D9: 新潟県
A10: 提供サービス（プルダウンから選択）
A11: 事業区分 | I11: FALSE | J11: 介護事業所等に対するサービス継続支援事業 | Y11: FALSE | Z11: 介護施設等に対するサービス継続支援事業
A13: 口座情報
A15: 介護分野の職員の賃上げ・職場環境改善支援事業に使用する口座情報を本事業の振込に使用することに同意する | AA15: 介護分野の職員の賃上げ・職場環境改善支援事業の申請 をしない場合は、左欄の✔を外して下さい。
A16: 介護分野の職員の賃上げ・職場環境改善支援事業に使用する口座は債権譲渡されていない | AA16: 債権譲渡されている場合は、左欄の✔を外して下さい。 ※債権譲渡されている場合、都道府県に申請して下さい。
A17: 銀行口座情報シートに本事業の振込に使用する口座情報を記入
A19: 報告にあたっての確認事項
A21: 領収書、レシート等の根拠資料は事業所において適切に保管している。 | AB21: =$C$200
A22: 支出した費用について、重点支援交付金と重複は生じていない。 | AB22: =$C$202
A24: 支出済額
A26: １．介護事業所等に対するサービス継続支援事業 | Y26: 交付決定額 | AD26: 実績額 | AI26: 差引額
AB27: 千円 | AD27: =MIN(Y27,ROUNDDOWN((H36+H46)/1000,0)) -> 0 | AG27: 千円 | AI27: =IF(Y27<AD27,0,Y27-AD27) -> 0 | AL27: 千円
A28: 【介護サービスを円滑に継続するための対応】
A29: 対象経費 | H29: 支出済額（円） | M29: 用途・品目・数量等
A30: 消耗品費
A31: 燃料費
A32: 光熱水費
A33: 有料道路通行料
A34: 備品購入費
A35: その他
A36: 合計 | H36: =SUM(H30:L35) -> 0
A38: 【災害備蓄等への対応】
A39: 対象経費 | H39: 支出済額（円） | M39: 用途・品目・数量等
A40: 消耗品費
A41: 燃料費
A42: 光熱水費
A43: 有料道路通行料
A44: 備品購入費
A45: その他
A46: 合計 | H46: =SUM(H40:L45) -> 0
A48: ２．介護施設等に対するサービス継続支援事業 | Y48: 交付決定額 | AD48: 実績額 | AI48: 差引額
AB49: 千円 | AD49: =MIN(Y49,ROUNDDOWN(H55/1000,0)) -> 0 | AG49: 千円 | AI49: =IF(Y49<AD49,0,Y49-AD49) -> 0 | AL49: 千円
A51: 対象経費 | H51: 支出済額（円） | M51: 用途・品目・数量等
A52: 食材料費
...

Sheet 個票13
A1: （付表２）個票13
A3: サービス継続支援事業に関する事業実績報告書（事業所単位）
A5: 施設概要
A7: 介護保険事業所番号 | O7: 事業所名称
A8: 所在地 | D8: 都道府県名 | H8: 住所 | T8: 連絡先 | W8: 電話番号 | AG8: 担当部署名
D9: 新潟県
A10: 提供サービス（プルダウンから選択）
A11: 事業区分 | I11: FALSE | J11: 介護事業所等に対するサービス継続支援事業 | Y11: FALSE | Z11: 介護施設等に対するサービス継続支援事業
A13: 口座情報
A15: 介護分野の職員の賃上げ・職場環境改善支援事業に使用する口座情報を本事業の振込に使用することに同意する | AA15: 介護分野の職員の賃上げ・職場環境改善支援事業の申請 をしない場合は、左欄の✔を外して下さい。
A16: 介護分野の職員の賃上げ・職場環境改善支援事業に使用する口座は債権譲渡されていない | AA16: 債権譲渡されている場合は、左欄の✔を外して下さい。 ※債権譲渡されている場合、都道府県に申請して下さい。
A17: 銀行口座情報シートに本事業の振込に使用する口座情報を記入
A19: 報告にあたっての確認事項
A21: 領収書、レシート等の根拠資料は事業所において適切に保管している。 | AB21: =$C$200
A22: 支出した費用について、重点支援交付金と重複は生じていない。 | AB22: =$C$202
A24: 支出済額
A26: １．介護事業所等に対するサービス継続支援事業 | Y26: 交付決定額 | AD26: 実績額 | AI26: 差引額
AB27: 千円 | AD27: =MIN(Y27,ROUNDDOWN((H36+H46)/1000,0)) -> 0 | AG27: 千円 | AI27: =IF(Y27<AD27,0,Y27-AD27) -> 0 | AL27: 千円
A28: 【介護サービスを円滑に継続するための対応】
A29: 対象経費 | H29: 支出済額（円） | M29: 用途・品目・数量等
A30: 消耗品費
A31: 燃料費
A32: 光熱水費
A33: 有料道路通行料
A34: 備品購入費
A35: その他
A36: 合計 | H36: =SUM(H30:L35) -> 0
A38: 【災害備蓄等への対応】
A39: 対象経費 | H39: 支出済額（円） | M39: 用途・品目・数量等
A40: 消耗品費
A41: 燃料費
A42: 光熱水費
A43: 有料道路通行料
A44: 備品購入費
A45: その他
A46: 合計 | H46: =SUM(H40:L45) -> 0
A48: ２．介護施設等に対するサービス継続支援事業 | Y48: 交付決定額 | AD48: 実績額 | AI48: 差引額
AB49: 千円 | AD49: =MIN(Y49,ROUNDDOWN(H55/1000,0)) -> 0 | AG49: 千円 | AI49: =IF(Y49<AD49,0,Y49-AD49) -> 0 | AL49: 千円
A51: 対象経費 | H51: 支出済額（円） | M51: 用途・品目・数量等
A52: 食材料費
...

Sheet 個票14
A1: （付表２）個票14
A3: サービス継続支援事業に関する事業実績報告書（事業所単位）
A5: 施設概要
A7: 介護保険事業所番号 | O7: 事業所名称
A8: 所在地 | D8: 都道府県名 | H8: 住所 | T8: 連絡先 | W8: 電話番号 | AG8: 担当部署名
D9: 新潟県
A10: 提供サービス（プルダウンから選択）
A11: 事業区分 | I11: FALSE | J11: 介護事業所等に対するサービス継続支援事業 | Y11: FALSE | Z11: 介護施設等に対するサービス継続支援事業
A13: 口座情報
A15: 介護分野の職員の賃上げ・職場環境改善支援事業に使用する口座情報を本事業の振込に使用することに同意する | AA15: 介護分野の職員の賃上げ・職場環境改善支援事業の申請 をしない場合は、左欄の✔を外して下さい。
A16: 介護分野の職員の賃上げ・職場環境改善支援事業に使用する口座は債権譲渡されていない | AA16: 債権譲渡されている場合は、左欄の✔を外して下さい。 ※債権譲渡されている場合、都道府県に申請して下さい。
A17: 銀行口座情報シートに本事業の振込に使用する口座情報を記入
A19: 報告にあたっての確認事項
A21: 領収書、レシート等の根拠資料は事業所において適切に保管している。 | AB21: =$C$200
A22: 支出した費用について、重点支援交付金と重複は生じていない。 | AB22: =$C$202
A24: 支出済額
A26: １．介護事業所等に対するサービス継続支援事業 | Y26: 交付決定額 | AD26: 実績額 | AI26: 差引額
AB27: 千円 | AD27: =MIN(Y27,ROUNDDOWN((H36+H46)/1000,0)) -> 0 | AG27: 千円 | AI27: =IF(Y27<AD27,0,Y27-AD27) -> 0 | AL27: 千円
A28: 【介護サービスを円滑に継続するための対応】
A29: 対象経費 | H29: 支出済額（円） | M29: 用途・品目・数量等
A30: 消耗品費
A31: 燃料費
A32: 光熱水費
A33: 有料道路通行料
A34: 備品購入費
A35: その他
A36: 合計 | H36: =SUM(H30:L35) -> 0
A38: 【災害備蓄等への対応】
A39: 対象経費 | H39: 支出済額（円） | M39: 用途・品目・数量等
A40: 消耗品費
A41: 燃料費
A42: 光熱水費
A43: 有料道路通行料
A44: 備品購入費
A45: その他
A46: 合計 | H46: =SUM(H40:L45) -> 0
A48: ２．介護施設等に対するサービス継続支援事業 | Y48: 交付決定額 | AD48: 実績額 | AI48: 差引額
AB49: 千円 | AD49: =MIN(Y49,ROUNDDOWN(H55/1000,0)) -> 0 | AG49: 千円 | AI49: =IF(Y49<AD49,0,Y49-AD49) -> 0 | AL49: 千円
A51: 対象経費 | H51: 支出済額（円） | M51: 用途・品目・数量等
A52: 食材料費
...

Sheet 個票15
A1: （付表２）個票15
A3: サービス継続支援事業に関する事業実績報告書（事業所単位）
A5: 施設概要
A7: 介護保険事業所番号 | O7: 事業所名称
A8: 所在地 | D8: 都道府県名 | H8: 住所 | T8: 連絡先 | W8: 電話番号 | AG8: 担当部署名
D9: 新潟県
A10: 提供サービス（プルダウンから選択）
A11: 事業区分 | I11: FALSE | J11: 介護事業所等に対するサービス継続支援事業 | Y11: FALSE | Z11: 介護施設等に対するサービス継続支援事業
A13: 口座情報
A15: 介護分野の職員の賃上げ・職場環境改善支援事業に使用する口座情報を本事業の振込に使用することに同意する | AA15: 介護分野の職員の賃上げ・職場環境改善支援事業の申請 をしない場合は、左欄の✔を外して下さい。
A16: 介護分野の職員の賃上げ・職場環境改善支援事業に使用する口座は債権譲渡されていない | AA16: 債権譲渡されている場合は、左欄の✔を外して下さい。 ※債権譲渡されている場合、都道府県に申請して下さい。
A17: 銀行口座情報シートに本事業の振込に使用する口座情報を記入
A19: 報告にあたっての確認事項
A21: 領収書、レシート等の根拠資料は事業所において適切に保管している。 | AB21: =$C$200
A22: 支出した費用について、重点支援交付金と重複は生じていない。 | AB22: =$C$202
A24: 支出済額
A26: １．介護事業所等に対するサービス継続支援事業 | Y26: 交付決定額 | AD26: 実績額 | AI26: 差引額
AB27: 千円 | AD27: =MIN(Y27,ROUNDDOWN((H36+H46)/1000,0)) -> 0 | AG27: 千円 | AI27: =IF(Y27<AD27,0,Y27-AD27) -> 0 | AL27: 千円
A28: 【介護サービスを円滑に継続するための対応】
A29: 対象経費 | H29: 支出済額（円） | M29: 用途・品目・数量等
A30: 消耗品費
A31: 燃料費
A32: 光熱水費
A33: 有料道路通行料
A34: 備品購入費
A35: その他
A36: 合計 | H36: =SUM(H30:L35) -> 0
A38: 【災害備蓄等への対応】
A39: 対象経費 | H39: 支出済額（円） | M39: 用途・品目・数量等
A40: 消耗品費
A41: 燃料費
A42: 光熱水費
A43: 有料道路通行料
A44: 備品購入費
A45: その他
A46: 合計 | H46: =SUM(H40:L45) -> 0
A48: ２．介護施設等に対するサービス継続支援事業 | Y48: 交付決定額 | AD48: 実績額 | AI48: 差引額
AB49: 千円 | AD49: =MIN(Y49,ROUNDDOWN(H55/1000,0)) -> 0 | AG49: 千円 | AI49: =IF(Y49<AD49,0,Y49-AD49) -> 0 | AL49: 千円
A51: 対象経費 | H51: 支出済額（円） | M51: 用途・品目・数量等
A52: 食材料費
...

Sheet 個票16
A1: （付表２）個票16
A3: サービス継続支援事業に関する事業実績報告書（事業所単位）
A5: 施設概要
A7: 介護保険事業所番号 | O7: 事業所名称
A8: 所在地 | D8: 都道府県名 | H8: 住所 | T8: 連絡先 | W8: 電話番号 | AG8: 担当部署名
D9: 新潟県
A10: 提供サービス（プルダウンから選択）
A11: 事業区分 | I11: FALSE | J11: 介護事業所等に対するサービス継続支援事業 | Y11: FALSE | Z11: 介護施設等に対するサービス継続支援事業
A13: 口座情報
A15: 介護分野の職員の賃上げ・職場環境改善支援事業に使用する口座情報を本事業の振込に使用することに同意する | AA15: 介護分野の職員の賃上げ・職場環境改善支援事業の申請 をしない場合は、左欄の✔を外して下さい。
A16: 介護分野の職員の賃上げ・職場環境改善支援事業に使用する口座は債権譲渡されていない | AA16: 債権譲渡されている場合は、左欄の✔を外して下さい。 ※債権譲渡されている場合、都道府県に申請して下さい。
A17: 銀行口座情報シートに本事業の振込に使用する口座情報を記入
A19: 報告にあたっての確認事項
A21: 領収書、レシート等の根拠資料は事業所において適切に保管している。 | AB21: =$C$200
A22: 支出した費用について、重点支援交付金と重複は生じていない。 | AB22: =$C$202
A24: 支出済額
A26: １．介護事業所等に対するサービス継続支援事業 | Y26: 交付決定額 | AD26: 実績額 | AI26: 差引額
AB27: 千円 | AD27: =MIN(Y27,ROUNDDOWN((H36+H46)/1000,0)) -> 0 | AG27: 千円 | AI27: =IF(Y27<AD27,0,Y27-AD27) -> 0 | AL27: 千円
A28: 【介護サービスを円滑に継続するための対応】
A29: 対象経費 | H29: 支出済額（円） | M29: 用途・品目・数量等
A30: 消耗品費
A31: 燃料費
A32: 光熱水費
A33: 有料道路通行料
A34: 備品購入費
A35: その他
A36: 合計 | H36: =SUM(H30:L35) -> 0
A38: 【災害備蓄等への対応】
A39: 対象経費 | H39: 支出済額（円） | M39: 用途・品目・数量等
A40: 消耗品費
A41: 燃料費
A42: 光熱水費
A43: 有料道路通行料
A44: 備品購入費
A45: その他
A46: 合計 | H46: =SUM(H40:L45) -> 0
A48: ２．介護施設等に対するサービス継続支援事業 | Y48: 交付決定額 | AD48: 実績額 | AI48: 差引額
AB49: 千円 | AD49: =MIN(Y49,ROUNDDOWN(H55/1000,0)) -> 0 | AG49: 千円 | AI49: =IF(Y49<AD49,0,Y49-AD49) -> 0 | AL49: 千円
A51: 対象経費 | H51: 支出済額（円） | M51: 用途・品目・数量等
A52: 食材料費
...

Sheet 個票17
A1: （付表２）個票17
A3: サービス継続支援事業に関する事業実績報告書（事業所単位）
A5: 施設概要
A7: 介護保険事業所番号 | O7: 事業所名称
A8: 所在地 | D8: 都道府県名 | H8: 住所 | T8: 連絡先 | W8: 電話番号 | AG8: 担当部署名
D9: 新潟県
A10: 提供サービス（プルダウンから選択）
A11: 事業区分 | I11: FALSE | J11: 介護事業所等に対するサービス継続支援事業 | Y11: FALSE | Z11: 介護施設等に対するサービス継続支援事業
A13: 口座情報
A15: 介護分野の職員の賃上げ・職場環境改善支援事業に使用する口座情報を本事業の振込に使用することに同意する | AA15: 介護分野の職員の賃上げ・職場環境改善支援事業の申請 をしない場合は、左欄の✔を外して下さい。
A16: 介護分野の職員の賃上げ・職場環境改善支援事業に使用する口座は債権譲渡されていない | AA16: 債権譲渡されている場合は、左欄の✔を外して下さい。 ※債権譲渡されている場合、都道府県に申請して下さい。
A17: 銀行口座情報シートに本事業の振込に使用する口座情報を記入
A19: 報告にあたっての確認事項
A21: 領収書、レシート等の根拠資料は事業所において適切に保管している。 | AB21: =$C$200
A22: 支出した費用について、重点支援交付金と重複は生じていない。 | AB22: =$C$202
A24: 支出済額
A26: １．介護事業所等に対するサービス継続支援事業 | Y26: 交付決定額 | AD26: 実績額 | AI26: 差引額
AB27: 千円 | AD27: =MIN(Y27,ROUNDDOWN((H36+H46)/1000,0)) -> 0 | AG27: 千円 | AI27: =IF(Y27<AD27,0,Y27-AD27) -> 0 | AL27: 千円
A28: 【介護サービスを円滑に継続するための対応】
A29: 対象経費 | H29: 支出済額（円） | M29: 用途・品目・数量等
A30: 消耗品費
A31: 燃料費
A32: 光熱水費
A33: 有料道路通行料
A34: 備品購入費
A35: その他
A36: 合計 | H36: =SUM(H30:L35) -> 0
A38: 【災害備蓄等への対応】
A39: 対象経費 | H39: 支出済額（円） | M39: 用途・品目・数量等
A40: 消耗品費
A41: 燃料費
A42: 光熱水費
A43: 有料道路通行料
A44: 備品購入費
A45: その他
A46: 合計 | H46: =SUM(H40:L45) -> 0
A48: ２．介護施設等に対するサービス継続支援事業 | Y48: 交付決定額 | AD48: 実績額 | AI48: 差引額
AB49: 千円 | AD49: =MIN(Y49,ROUNDDOWN(H55/1000,0)) -> 0 | AG49: 千円 | AI49: =IF(Y49<AD49,0,Y49-AD49) -> 0 | AL49: 千円
A51: 対象経費 | H51: 支出済額（円） | M51: 用途・品目・数量等
A52: 食材料費
...

Sheet 個票18
A1: （付表２）個票18
A3: サービス継続支援事業に関する事業実績報告書（事業所単位）
A5: 施設概要
A7: 介護保険事業所番号 | O7: 事業所名称
A8: 所在地 | D8: 都道府県名 | H8: 住所 | T8: 連絡先 | W8: 電話番号 | AG8: 担当部署名
D9: 新潟県
A10: 提供サービス（プルダウンから選択）
A11: 事業区分 | I11: FALSE | J11: 介護事業所等に対するサービス継続支援事業 | Y11: FALSE | Z11: 介護施設等に対するサービス継続支援事業
A13: 口座情報
A15: 介護分野の職員の賃上げ・職場環境改善支援事業に使用する口座情報を本事業の振込に使用することに同意する | AA15: 介護分野の職員の賃上げ・職場環境改善支援事業の申請 をしない場合は、左欄の✔を外して下さい。
A16: 介護分野の職員の賃上げ・職場環境改善支援事業に使用する口座は債権譲渡されていない | AA16: 債権譲渡されている場合は、左欄の✔を外して下さい。 ※債権譲渡されている場合、都道府県に申請して下さい。
A17: 銀行口座情報シートに本事業の振込に使用する口座情報を記入
A19: 報告にあたっての確認事項
A21: 領収書、レシート等の根拠資料は事業所において適切に保管している。 | AB21: =$C$200
A22: 支出した費用について、重点支援交付金と重複は生じていない。 | AB22: =$C$202
A24: 支出済額
A26: １．介護事業所等に対するサービス継続支援事業 | Y26: 交付決定額 | AD26: 実績額 | AI26: 差引額
AB27: 千円 | AD27: =MIN(Y27,ROUNDDOWN((H36+H46)/1000,0)) -> 0 | AG27: 千円 | AI27: =IF(Y27<AD27,0,Y27-AD27) -> 0 | AL27: 千円
A28: 【介護サービスを円滑に継続するための対応】
A29: 対象経費 | H29: 支出済額（円） | M29: 用途・品目・数量等
A30: 消耗品費
A31: 燃料費
A32: 光熱水費
A33: 有料道路通行料
A34: 備品購入費
A35: その他
A36: 合計 | H36: =SUM(H30:L35) -> 0
A38: 【災害備蓄等への対応】
A39: 対象経費 | H39: 支出済額（円） | M39: 用途・品目・数量等
A40: 消耗品費
A41: 燃料費
A42: 光熱水費
A43: 有料道路通行料
A44: 備品購入費
A45: その他
A46: 合計 | H46: =SUM(H40:L45) -> 0
A48: ２．介護施設等に対するサービス継続支援事業 | Y48: 交付決定額 | AD48: 実績額 | AI48: 差引額
AB49: 千円 | AD49: =MIN(Y49,ROUNDDOWN(H55/1000,0)) -> 0 | AG49: 千円 | AI49: =IF(Y49<AD49,0,Y49-AD49) -> 0 | AL49: 千円
A51: 対象経費 | H51: 支出済額（円） | M51: 用途・品目・数量等
A52: 食材料費
...

Sheet 個票19
A1: （付表２）個票19
A3: サービス継続支援事業に関する事業実績報告書（事業所単位）
A5: 施設概要
A7: 介護保険事業所番号 | O7: 事業所名称
A8: 所在地 | D8: 都道府県名 | H8: 住所 | T8: 連絡先 | W8: 電話番号 | AG8: 担当部署名
D9: 新潟県
A10: 提供サービス（プルダウンから選択）
A11: 事業区分 | I11: FALSE | J11: 介護事業所等に対するサービス継続支援事業 | Y11: FALSE | Z11: 介護施設等に対するサービス継続支援事業
A13: 口座情報
A15: 介護分野の職員の賃上げ・職場環境改善支援事業に使用する口座情報を本事業の振込に使用することに同意する | AA15: 介護分野の職員の賃上げ・職場環境改善支援事業の申請 をしない場合は、左欄の✔を外して下さい。
A16: 介護分野の職員の賃上げ・職場環境改善支援事業に使用する口座は債権譲渡されていない | AA16: 債権譲渡されている場合は、左欄の✔を外して下さい。 ※債権譲渡されている場合、都道府県に申請して下さい。
A17: 銀行口座情報シートに本事業の振込に使用する口座情報を記入
A19: 報告にあたっての確認事項
A21: 領収書、レシート等の根拠資料は事業所において適切に保管している。 | AB21: =$C$200
A22: 支出した費用について、重点支援交付金と重複は生じていない。 | AB22: =$C$202
A24: 支出済額
A26: １．介護事業所等に対するサービス継続支援事業 | Y26: 交付決定額 | AD26: 実績額 | AI26: 差引額
AB27: 千円 | AD27: =MIN(Y27,ROUNDDOWN((H36+H46)/1000,0)) -> 0 | AG27: 千円 | AI27: =IF(Y27<AD27,0,Y27-AD27) -> 0 | AL27: 千円
A28: 【介護サービスを円滑に継続するための対応】
A29: 対象経費 | H29: 支出済額（円） | M29: 用途・品目・数量等
A30: 消耗品費
A31: 燃料費
A32: 光熱水費
A33: 有料道路通行料
A34: 備品購入費
A35: その他
A36: 合計 | H36: =SUM(H30:L35) -> 0
A38: 【災害備蓄等への対応】
A39: 対象経費 | H39: 支出済額（円） | M39: 用途・品目・数量等
A40: 消耗品費
A41: 燃料費
A42: 光熱水費
A43: 有料道路通行料
A44: 備品購入費
A45: その他
A46: 合計 | H46: =SUM(H40:L45) -> 0
A48: ２．介護施設等に対するサービス継続支援事業 | Y48: 交付決定額 | AD48: 実績額 | AI48: 差引額
AB49: 千円 | AD49: =MIN(Y49,ROUNDDOWN(H55/1000,0)) -> 0 | AG49: 千円 | AI49: =IF(Y49<AD49,0,Y49-AD49) -> 0 | AL49: 千円
A51: 対象経費 | H51: 支出済額（円） | M51: 用途・品目・数量等
A52: 食材料費
...

Sheet 個票20
A1: （付表２）個票20
A3: サービス継続支援事業に関する事業実績報告書（事業所単位）
A5: 施設概要
A7: 介護保険事業所番号 | O7: 事業所名称
A8: 所在地 | D8: 都道府県名 | H8: 住所 | T8: 連絡先 | W8: 電話番号 | AG8: 担当部署名
D9: 新潟県
A10: 提供サービス（プルダウンから選択）
A11: 事業区分 | I11: FALSE | J11: 介護事業所等に対するサービス継続支援事業 | Y11: FALSE | Z11: 介護施設等に対するサービス継続支援事業
A13: 口座情報
A15: 介護分野の職員の賃上げ・職場環境改善支援事業に使用する口座情報を本事業の振込に使用することに同意する | AA15: 介護分野の職員の賃上げ・職場環境改善支援事業の申請 をしない場合は、左欄の✔を外して下さい。
A16: 介護分野の職員の賃上げ・職場環境改善支援事業に使用する口座は債権譲渡されていない | AA16: 債権譲渡されている場合は、左欄の✔を外して下さい。 ※債権譲渡されている場合、都道府県に申請して下さい。
A17: 銀行口座情報シートに本事業の振込に使用する口座情報を記入
A19: 報告にあたっての確認事項
A21: 領収書、レシート等の根拠資料は事業所において適切に保管している。 | AB21: =$C$200
A22: 支出した費用について、重点支援交付金と重複は生じていない。 | AB22: =$C$202
A24: 支出済額
A26: １．介護事業所等に対するサービス継続支援事業 | Y26: 交付決定額 | AD26: 実績額 | AI26: 差引額
AB27: 千円 | AD27: =MIN(Y27,ROUNDDOWN((H36+H46)/1000,0)) -> 0 | AG27: 千円 | AI27: =IF(Y27<AD27,0,Y27-AD27) -> 0 | AL27: 千円
A28: 【介護サービスを円滑に継続するための対応】
A29: 対象経費 | H29: 支出済額（円） | M29: 用途・品目・数量等
A30: 消耗品費
A31: 燃料費
A32: 光熱水費
A33: 有料道路通行料
A34: 備品購入費
A35: その他
A36: 合計 | H36: =SUM(H30:L35) -> 0
A38: 【災害備蓄等への対応】
A39: 対象経費 | H39: 支出済額（円） | M39: 用途・品目・数量等
A40: 消耗品費
A41: 燃料費
A42: 光熱水費
A43: 有料道路通行料
A44: 備品購入費
A45: その他
A46: 合計 | H46: =SUM(H40:L45) -> 0
A48: ２．介護施設等に対するサービス継続支援事業 | Y48: 交付決定額 | AD48: 実績額 | AI48: 差引額
AB49: 千円 | AD49: =MIN(Y49,ROUNDDOWN(H55/1000,0)) -> 0 | AG49: 千円 | AI49: =IF(Y49<AD49,0,Y49-AD49) -> 0 | AL49: 千円
A51: 対象経費 | H51: 支出済額（円） | M51: 用途・品目・数量等
A52: 食材料費
...

Sheet 個票21
A1: （付表２）個票21
A3: サービス継続支援事業に関する事業実績報告書（事業所単位）
A5: 施設概要
A7: 介護保険事業所番号 | O7: 事業所名称
A8: 所在地 | D8: 都道府県名 | H8: 住所 | T8: 連絡先 | W8: 電話番号 | AG8: 担当部署名
D9: 新潟県
A10: 提供サービス（プルダウンから選択）
A11: 事業区分 | I11: FALSE | J11: 介護事業所等に対するサービス継続支援事業 | Y11: FALSE | Z11: 介護施設等に対するサービス継続支援事業
A13: 口座情報
A15: 介護分野の職員の賃上げ・職場環境改善支援事業に使用する口座情報を本事業の振込に使用することに同意する | AA15: 介護分野の職員の賃上げ・職場環境改善支援事業の申請 をしない場合は、左欄の✔を外して下さい。
A16: 介護分野の職員の賃上げ・職場環境改善支援事業に使用する口座は債権譲渡されていない | AA16: 債権譲渡されている場合は、左欄の✔を外して下さい。 ※債権譲渡されている場合、都道府県に申請して下さい。
A17: 銀行口座情報シートに本事業の振込に使用する口座情報を記入
A19: 報告にあたっての確認事項
A21: 領収書、レシート等の根拠資料は事業所において適切に保管している。 | AB21: =$C$200
A22: 支出した費用について、重点支援交付金と重複は生じていない。 | AB22: =$C$202
A24: 支出済額
A26: １．介護事業所等に対するサービス継続支援事業 | Y26: 交付決定額 | AD26: 実績額 | AI26: 差引額
AB27: 千円 | AD27: =MIN(Y27,ROUNDDOWN((H36+H46)/1000,0)) -> 0 | AG27: 千円 | AI27: =IF(Y27<AD27,0,Y27-AD27) -> 0 | AL27: 千円
A28: 【介護サービスを円滑に継続するための対応】
A29: 対象経費 | H29: 支出済額（円） | M29: 用途・品目・数量等
A30: 消耗品費
A31: 燃料費
A32: 光熱水費
A33: 有料道路通行料
A34: 備品購入費
A35: その他
A36: 合計 | H36: =SUM(H30:L35) -> 0
A38: 【災害備蓄等への対応】
A39: 対象経費 | H39: 支出済額（円） | M39: 用途・品目・数量等
A40: 消耗品費
A41: 燃料費
A42: 光熱水費
A43: 有料道路通行料
A44: 備品購入費
A45: その他
A46: 合計 | H46: =SUM(H40:L45) -> 0
A48: ２．介護施設等に対するサービス継続支援事業 | Y48: 交付決定額 | AD48: 実績額 | AI48: 差引額
AB49: 千円 | AD49: =MIN(Y49,ROUNDDOWN(H55/1000,0)) -> 0 | AG49: 千円 | AI49: =IF(Y49<AD49,0,Y49-AD49) -> 0 | AL49: 千円
A51: 対象経費 | H51: 支出済額（円） | M51: 用途・品目・数量等
A52: 食材料費
...

Sheet 個票22
A1: （付表２）個票22
A3: サービス継続支援事業に関する事業実績報告書（事業所単位）
A5: 施設概要
A7: 介護保険事業所番号 | O7: 事業所名称
A8: 所在地 | D8: 都道府県名 | H8: 住所 | T8: 連絡先 | W8: 電話番号 | AG8: 担当部署名
D9: 新潟県
A10: 提供サービス（プルダウンから選択）
A11: 事業区分 | I11: FALSE | J11: 介護事業所等に対するサービス継続支援事業 | Y11: FALSE | Z11: 介護施設等に対するサービス継続支援事業
A13: 口座情報
A15: 介護分野の職員の賃上げ・職場環境改善支援事業に使用する口座情報を本事業の振込に使用することに同意する | AA15: 介護分野の職員の賃上げ・職場環境改善支援事業の申請 をしない場合は、左欄の✔を外して下さい。
A16: 介護分野の職員の賃上げ・職場環境改善支援事業に使用する口座は債権譲渡されていない | AA16: 債権譲渡されている場合は、左欄の✔を外して下さい。 ※債権譲渡されている場合、都道府県に申請して下さい。
A17: 銀行口座情報シートに本事業の振込に使用する口座情報を記入
A19: 報告にあたっての確認事項
A21: 領収書、レシート等の根拠資料は事業所において適切に保管している。 | AB21: =$C$200
A22: 支出した費用について、重点支援交付金と重複は生じていない。 | AB22: =$C$202
A24: 支出済額
A26: １．介護事業所等に対するサービス継続支援事業 | Y26: 交付決定額 | AD26: 実績額 | AI26: 差引額
AB27: 千円 | AD27: =MIN(Y27,ROUNDDOWN((H36+H46)/1000,0)) -> 0 | AG27: 千円 | AI27: =IF(Y27<AD27,0,Y27-AD27) -> 0 | AL27: 千円
A28: 【介護サービスを円滑に継続するための対応】
A29: 対象経費 | H29: 支出済額（円） | M29: 用途・品目・数量等
A30: 消耗品費
A31: 燃料費
A32: 光熱水費
A33: 有料道路通行料
A34: 備品購入費
A35: その他
A36: 合計 | H36: =SUM(H30:L35) -> 0
A38: 【災害備蓄等への対応】
A39: 対象経費 | H39: 支出済額（円） | M39: 用途・品目・数量等
A40: 消耗品費
A41: 燃料費
A42: 光熱水費
A43: 有料道路通行料
A44: 備品購入費
A45: その他
A46: 合計 | H46: =SUM(H40:L45) -> 0
A48: ２．介護施設等に対するサービス継続支援事業 | Y48: 交付決定額 | AD48: 実績額 | AI48: 差引額
AB49: 千円 | AD49: =MIN(Y49,ROUNDDOWN(H55/1000,0)) -> 0 | AG49: 千円 | AI49: =IF(Y49<AD49,0,Y49-AD49) -> 0 | AL49: 千円
A51: 対象経費 | H51: 支出済額（円） | M51: 用途・品目・数量等
A52: 食材料費
...

Sheet 個票23
A1: （付表２）個票23
A3: サービス継続支援事業に関する事業実績報告書（事業所単位）
A5: 施設概要
A7: 介護保険事業所番号 | O7: 事業所名称
A8: 所在地 | D8: 都道府県名 | H8: 住所 | T8: 連絡先 | W8: 電話番号 | AG8: 担当部署名
D9: 新潟県
A10: 提供サービス（プルダウンから選択）
A11: 事業区分 | I11: FALSE | J11: 介護事業所等に対するサービス継続支援事業 | Y11: FALSE | Z11: 介護施設等に対するサービス継続支援事業
A13: 口座情報
